BEGIN:VCALENDAR
VERSION:2.0
CALSCALE:GREGORIAN
PRODID:adamgibbons/ics
METHOD:PUBLISH
X-PUBLISHED-TTL:PT1H
BEGIN:VEVENT
UID:142@kulturkarte.servus.at
SUMMARY:Austauschcafé Männlichkeiten
DTSTAMP:20260420T063332Z
DTSTART:20260416T170000Z
DTEND:20260416T190000Z
DESCRIPTION:Das Austauschcafé ist eine für alle Geschlechter offene Gruppe 
	aus Menschen\, die\nsich mit dem Thema Männlichkeiten in einer patriarchal
	en Gesellschaft\nauseinandersetzt. Wir treffen uns alle zwei Wochen zu Ges
	prächskreisen\, in denen\nwir in Austausch über selbst eingebrachte Themen
	 gehen.\n\nWir möchten die Möglichkeit nutzen\, um unserer Arbeit mehr Öff
	entlichkeit zu\ngeben. Der Abend wird als offene Gesprächsrunde gestaltet 
	und wir laden dazu ein\nmitzumachen. Dies wird kein Vortrag über unsere Gr
	uppe\, sondern alle\, die\nkommen\, werden in die Runde eingebunden und kö
	nnen aktiv erfahren\, wie unsere\nGruppe arbeitet.\n\nWir setzen uns kriti
	sch mit Männlichkeiten auseinander\, was bedeutet\, sich\nbewusst zu mache
	n\, dass männlich geprägte Menschen toxische Muster gelernt haben\nund wir
	 diese überwinden wollen. Es geht uns um Verantwortungsübernahme in einem\
	nsexistischen System\, das viele von uns mit Privilegien ausgestattet hat.
URL:https://kulturkarte.servus.at/event/austauschcafe-mannlichkeiten
LOCATION:Raumschiff - Pfarrplatz 18
STATUS:CONFIRMED
CATEGORIES:
X-ALT-DESC;FMTTYPE=text/html:<p>Das Austauschcafé ist eine für alle Geschle
	chter offene Gruppe aus Menschen, die sich mit dem Thema Männlichkeiten in
	 einer patriarchalen Gesellschaft auseinandersetzt. Wir treffen uns alle z
	wei Wochen zu Gesprächskreisen, in denen wir in Austausch über selbst eing
	ebrachte Themen gehen.</p><p>Wir möchten die Möglichkeit nutzen, um unsere
	r Arbeit mehr Öffentlichkeit zu geben. Der Abend wird als offene Gesprächs
	runde gestaltet und wir laden dazu ein mitzumachen. Dies wird kein Vortrag
	 über unsere Gruppe, sondern alle, die kommen, werden in die Runde eingebu
	nden und können aktiv erfahren, wie unsere Gruppe arbeitet.</p><p>Wir setz
	en uns kritisch mit Männlichkeiten auseinander, was bedeutet, sich bewusst
	 zu machen, dass männlich geprägte Menschen toxische Muster gelernt haben 
	und wir diese überwinden wollen. Es geht uns um Verantwortungsübernahme in
	 einem sexistischen System, das viele von uns mit Privilegien ausgestattet
	 hat.</p>
BEGIN:VALARM
ACTION:DISPLAY
DESCRIPTION:Austauschcafé Männlichkeiten
TRIGGER:-PT1H
END:VALARM
END:VEVENT
END:VCALENDAR
