BEGIN:VCALENDAR
VERSION:2.0
CALSCALE:GREGORIAN
PRODID:adamgibbons/ics
METHOD:PUBLISH
X-PUBLISHED-TTL:PT1H
BEGIN:VEVENT
UID:134@kulturkarte.servus.at
SUMMARY:BASS.KV BASSMEETING - LION'S HIFI SOUNDSYSTEM meets SUBVERSION SOUN
	D & TAFFRAFF
DTSTAMP:20260420T173214Z
DTSTART:20260321T080000Z
DTEND:20260322T020000Z
DESCRIPTION:Basskulturförderverein Linz invites:\n\nBASS.KV BASSMEETING\nSu
	bversion Sound & TaffRaff\nmeets Lion’s Hifi\n\n21.03.2026\n9pm - 3am\nSal
	onschiff Fräulein Florentine\n\nLion’s Hifi Soundsystem\nThe Styrian sound
	system crew returns to the Steel City to deliver original\nrootikal vibes 
	— this time with a two-scoop version of their system.\nLion’s HiFi was bor
	n 10 years ago out of a shared passion for music\, culture and\nsoundsyste
	m among friends from the Murtal district in Styria\, Austria.\nWith deep r
	espect for the origins and roots of soundsystem culture\, and a strong\nte
	chnical focus on crystal-clear sound paired with heavy\, analogue-powered\
	nbasslines\, every session becomes a unique and uplifting experience.\nFor
	 almost 20 years\, Max aka Roaring Lion has been playing the music he want
	s\npeople to hear — and that remains his mission to this day. He is one of
	 the\nveterans of the Austrian dub soundsystem community and a big part of
	 the annual\ndub festival Hills Of Eden (@hillsofeden_festival)\, hosted b
	y our beloved\nfriends Dread Lions (@dreadlionsmusic) in the north of Styr
	ia — Austria’s\nbiggest soundsystem community gathering.\nWe are more than
	 honoured to have Lion’s HiFi on board.\n\nTaffRaff\nSteel City’s dub vete
	ran number one!\nIf you’ve joined a dance over the past decades\, you defi
	nitely know him. A true\nconnector\, socializer and big selector\, he once
	 again delivers heavy dubs\nstraight from his collection.\nFeel the energy
	 — it’s unique!\n\nSubversion Sound\nA Dub-Duo from Linz\, which has been 
	active since 2023. What began as a passion\nfor collecting dub records and
	 dancing at sessions has evolved into a project\ndedicated to spreading he
	avy dubplates from around the globe. From roots to\nprogressive steppers\,
	 with a focus on heavy bass music from the entire dub\nuniverse! Subversio
	n Sound is strictly anti-fascist. No compromise! ★\n\n21.03.2026\n9pm - 3a
	m\nSalonschiff Fräulein Florentine\n\nAll night - Roots - Dub - Steppers\n
	Always antifascist!\n\nNo Racism - No Sexism - No Fascism - No Homophobia
URL:https://kulturkarte.servus.at/event/basskv-bassmeeting-lions-hifi-sound
	system-meets-subversion-sound-and-taffraff
LOCATION:Salonschiff Fräulein Florentine - Salonschiff Fräulein Florentine\
	, 1\, Heinrich-Gleißner Promenade\, Alt-Urfahr\, Urfahr\, Linz\, Oberöster
	reich\, 4040\, Österreich
STATUS:CONFIRMED
CATEGORIES:Dub,Subversion Sound,Soundsystem,Reggae,Florentine,Steppers,BASS
	KV,Basskulturförderverein,Bassmeeting,BASS.KV,Lion's Hifi,TaffRaff,LCC,Lin
	z Club Commission,Fräulein Florentine,Salonschiff Fräulein Florentine,Bass
X-ALT-DESC;FMTTYPE=text/html:<p><em>Basskulturförderverein Linz invites:</e
	m></p><p><strong>BASS.KV BASSMEETING<br>Subversion Sound &amp; TaffRaff<br
	>meets Lion’s Hifi</strong><br><br><strong>21.03.2026</strong><br>9pm - 3a
	m<br>Salonschiff Fräulein Florentine<br><br><strong>Lion’s Hifi Soundsyste
	m</strong><br>The Styrian soundsystem crew returns to the Steel City to de
	liver original rootikal vibes — this time with a two-scoop version of thei
	r system.<br>Lion’s HiFi was born 10 years ago out of a shared passion for
	 music, culture and soundsystem among friends from the Murtal district in 
	Styria, Austria.<br>With deep respect for the origins and roots of soundsy
	stem culture, and a strong technical focus on crystal-clear sound paired w
	ith heavy, analogue-powered basslines, every session becomes a unique and 
	uplifting experience.<br>For almost 20 years, Max aka Roaring Lion has bee
	n playing the music he wants people to hear — and that remains his mission
	 to this day. He is one of the veterans of the Austrian dub soundsystem co
	mmunity and a big part of the annual dub festival Hills Of Eden (@hillsofe
	den_festival), hosted by our beloved friends Dread Lions (@dreadlionsmusic
	) in the north of Styria — Austria’s biggest soundsystem community gatheri
	ng.<br>We are more than honoured to have Lion’s HiFi on board.<br><br><str
	ong>TaffRaff</strong><br>Steel City’s dub veteran number one!<br>If you’ve
	 joined a dance over the past decades, you definitely know him. A true con
	nector, socializer and big selector, he once again delivers heavy dubs str
	aight from his collection.<br>Feel the energy — it’s unique!<br><br><stron
	g>Subversion Sound</strong><br>A Dub-Duo from Linz, which has been active 
	since 2023. What began as a passion for collecting dub records and dancing
	 at sessions has evolved into a project dedicated to spreading heavy dubpl
	ates from around the globe. From roots to progressive steppers, with a foc
	us on heavy bass music from the entire dub universe! Subversion Sound is s
	trictly anti-fascist. No compromise! ★<br><br><strong>21.03.2026</strong><
	br>9pm - 3am<br>Salonschiff Fräulein Florentine<br><br><strong>All night -
	 Roots - Dub - Steppers<br>Always antifascist!<br><br>No Racism - No Sexis
	m - No Fascism - No Homophobia</strong></p>
BEGIN:VALARM
ACTION:DISPLAY
DESCRIPTION:BASS.KV BASSMEETING - LION'S HIFI SOUNDSYSTEM meets SUBVERSION 
	SOUND & TAFFRAFF
TRIGGER:-PT1H
END:VALARM
END:VEVENT
END:VCALENDAR
