BEGIN:VCALENDAR
VERSION:2.0
CALSCALE:GREGORIAN
PRODID:adamgibbons/ics
METHOD:PUBLISH
X-PUBLISHED-TTL:PT1H
BEGIN:VEVENT
UID:131@kulturkarte.servus.at
SUMMARY:Beaver Lab x Kunsthalle Linz
DTSTAMP:20260420T121720Z
DTSTART:20260221T160000Z
DESCRIPTION:2026 ist Beaver Lab zu Gast bei Frl. Florentine. Die Kooperatio
	n zwischen dem\nArt & Science Projekt und dem Salonschiff startet am 21. F
	ebruar 2026 mit einer\nAusstellungseröffnung in der Kunsthalle inklusive e
	iner Live-Schaltung von\nBiber-TV und wird begleitet von Biberspaziergänge
	n im direkten urbanen Umraum\,\neinem interdisziplinären Diskurs-Programm 
	sowie einem Biber-Beobachtungsplatz am\nSalonschiff mit Hörstation und Lit
	eratur rund um das Leben der innerstädtischen\nBiberfamilie und unserer vi
	elfältigen\, nicht-menschlichen Nachbarschaft.\n\nUmfassendes Begleitprogr
	amm auf:\nhttps://beaverlab.at/florentine [https://beaverlab.at/florentine
	]
URL:https://kulturkarte.servus.at/event/beaver-lab-x-kunsthalle-linz
LOCATION:Salonschiff Fräulein Florentine - Salonschiff Fräulein Florentine\
	, 1\, Heinrich-Gleißner Promenade\, Alt-Urfahr\, Urfahr\, Linz\, Oberöster
	reich\, 4040\, Österreich
STATUS:CONFIRMED
CATEGORIES:linz,exhibition,Florentine,beaver,lab,kunsthalle,ausstellung
X-ALT-DESC;FMTTYPE=text/html:<p>2026 ist Beaver Lab zu Gast bei Frl. Floren
	tine. Die Kooperation zwischen dem Art &amp; Science Projekt und dem Salon
	schiff startet am 21. Februar 2026 mit einer Ausstellungseröffnung in der 
	Kunsthalle inklusive einer Live-Schaltung von Biber-TV und wird begleitet 
	von Biberspaziergängen im direkten urbanen Umraum, einem interdisziplinäre
	n Diskurs-Programm sowie einem Biber-Beobachtungsplatz am Salonschiff mit 
	Hörstation und Literatur rund um das Leben der innerstädtischen Biberfamil
	ie und unserer vielfältigen, nicht-menschlichen Nachbarschaft.<br><br><str
	ong>Umfassendes Begleitprogramm auf:<br></strong><a href="https://beaverla
	b.at/florentine" target="_blank"><strong>https://beaverlab.at/florentine</
	strong></a></p>
BEGIN:VALARM
ACTION:DISPLAY
DESCRIPTION:Beaver Lab x Kunsthalle Linz
TRIGGER:-PT1H
END:VALARM
END:VEVENT
END:VCALENDAR
