BEGIN:VCALENDAR
VERSION:2.0
CALSCALE:GREGORIAN
PRODID:adamgibbons/ics
METHOD:PUBLISH
X-PUBLISHED-TTL:PT1H
BEGIN:VEVENT
UID:125@kulturkarte.servus.at
SUMMARY:BROM - Beierbach / Roder Marien ( DE ) // LIVE AT RAUMSCHIFF
DTSTAMP:20260420T135901Z
DTSTART:20260312T183000Z
DTEND:20260312T220000Z
DESCRIPTION:Alexander Beierbach – Tenor- und Sopransaxophon\nJan Roder – Ba
	ss\nChristian Marien – Schlagzeug\n\nOb im Konzert\, in der Probe oder im 
	Studio\, das Berliner Trio BROM ist gemeinsam\nam Werk – vergleichbar mit 
	einer kollektiven Künstlerwerkstatt\, in der sie zu\ndritt mit dem Modelli
	eren an einer Plastik oder dem Behauen einer Skulptur\nbeschäftigt sind. S
	eit rund 15 Jahren spielen der Tenorsaxophonist Alexander\nBeierbach\, der
	 Kontrabassist Jan Roder und der Schlagzeuger Christian Marien in\ndieser 
	Band zusammen. In zahlreichen Konzerten haben sie eine ganz eigene Form\ne
	ntwickelt\, komponierte und improvisierte Musik zu verbinden.\n\nGrundlage
	 sind die offenen Kompositionen von Alexander Beierbach\, aus denen sich\n
	immer wieder verschiedenste musikalische Tableaus ergeben. Im kombinatoris
	chen\nSpiel begegnen sich komponierte Teile und freie Improvisationen stet
	s neu\; sie\nüberlagern sich und fügen sich in einem anderen Kontext wiede
	r zusammen – das\ngleiche Material kann im Licht unterschiedlichster Stimm
	ungen und Stilistiken\nerscheinen. In den Kompositionen brechen neue Freir
	äume auf\, in der freien\nImprovisation wiederum bilden sich klare Struktu
	ren heraus. So folgt jedes\nKonzert einer eigenen Logik\, und an jedem Abe
	nd entsteht eine andere\, kollektiv\ngestaltete Skulptur.\n\nDie Entwicklu
	ng dieses Spielkonzeptes kann man inzwischen auf drei CDs\nnachvollziehen:
	 Auf das 2013 bei gligg-records erschienene Debütalbum there\nfolgte 2018 
	Cardboard Sea auf dem musikereigenen Label Tiger Moon Records. Dort\nwurde
	 nun auch die aktuelle CD A Night and 43 Seconds veröffentlicht.\n\nhttps:
	//alexanderbeierbach.de/brom/ [https://alexanderbeierbach.de/brom/]\n\nEnt
	ry on free donation
URL:https://kulturkarte.servus.at/event/brom-beierbach-roder-marien-de-live
	-at-raumschiff
LOCATION:Raumschiff - Pfarrplatz 18
STATUS:CONFIRMED
CATEGORIES:linz,experimental,Jazz,contemporary music,experimental music,fre
	e improvised music,raumschiff,contemporary culture
X-ALT-DESC;FMTTYPE=text/html:<p>Alexander Beierbach – Tenor- und Sopransaxo
	phon<br>Jan Roder – Bass<br>Christian Marien – Schlagzeug</p><p>Ob im Konz
	ert, in der Probe oder im Studio, das Berliner Trio BROM ist gemeinsam am 
	Werk – vergleichbar mit einer kollektiven Künstlerwerkstatt, in der sie zu
	 dritt mit dem Modellieren an einer Plastik oder dem Behauen einer Skulptu
	r beschäftigt sind. Seit rund 15 Jahren spielen der Tenorsaxophonist Alexa
	nder Beierbach, der Kontrabassist Jan Roder und der Schlagzeuger Christian
	 Marien in dieser Band zusammen. In zahlreichen Konzerten haben sie eine g
	anz eigene Form entwickelt, komponierte und improvisierte Musik zu verbind
	en.</p><p>Grundlage sind die offenen Kompositionen von Alexander Beierbach
	, aus denen sich immer wieder verschiedenste musikalische Tableaus ergeben
	. Im kombinatorischen Spiel begegnen sich komponierte Teile und freie Impr
	ovisationen stets neu; sie überlagern sich und fügen sich in einem anderen
	 Kontext wieder zusammen – das gleiche Material kann im Licht unterschiedl
	ichster Stimmungen und Stilistiken erscheinen. In den Kompositionen breche
	n neue Freiräume auf, in der freien Improvisation wiederum bilden sich kla
	re Strukturen heraus. So folgt jedes Konzert einer eigenen Logik, und an j
	edem Abend entsteht eine andere, kollektiv gestaltete Skulptur.</p><p>Die 
	Entwicklung dieses Spielkonzeptes kann man inzwischen auf drei CDs nachvol
	lziehen: Auf das 2013 bei gligg-records erschienene Debütalbum there folgt
	e 2018 Cardboard Sea auf dem musikereigenen Label Tiger Moon Records. Dort
	 wurde nun auch die aktuelle CD A Night and 43 Seconds veröffentlicht.</p>
	<p><a target="_blank" href="https://alexanderbeierbach.de/brom/"><strong>h
	ttps://alexanderbeierbach.de/brom/</strong></a></p><p>Entry on free donati
	on</p>
BEGIN:VALARM
ACTION:DISPLAY
DESCRIPTION:BROM - Beierbach / Roder Marien ( DE ) // LIVE AT RAUMSCHIFF
TRIGGER:-PT1H
END:VALARM
END:VEVENT
END:VCALENDAR
