BEGIN:VCALENDAR
VERSION:2.0
CALSCALE:GREGORIAN
PRODID:adamgibbons/ics
METHOD:PUBLISH
X-PUBLISHED-TTL:PT1H
BEGIN:VEVENT
UID:124@kulturkarte.servus.at
SUMMARY:CHOLESTERIN³ live at THE MOST SECRET CELLAR IN LINZ
DTSTAMP:20260420T143656Z
DTSTART:20260305T191500Z
DTEND:20260305T220000Z
DESCRIPTION:sonic discourse about the history of cardboard castles\n\nPatri
	ck Pillichshammer - drums\nDaniel Bierdümpfl - guitar\, fx\, synth\nPhilip
	p Wohofsky - keys\, synth\n\n________________________\n\nhttps://danielbie
	rduempfl.bandcamp.com/album/a-p-p-l-a-u-s\n[https://danielbierduempfl.band
	camp.com/album/a-p-p-l-a-u-s]\n\nhttps://youtu.be/7YuUFhBZ-kg?si=LE12clB6f
	SDErCEb\n[https://youtu.be/7YuUFhBZ-kg?si=LE12clB6fSDErCEb]\n\nhttps://www
	.instagram.com/danielbierduempfl/\n[https://www.instagram.com/danielbierdu
	empfl/]\n\nhttps://www.instagram.com/patrickpillichshammer/\n[https://www.
	instagram.com/patrickpillichshammer/]\n\n________________________\n\nEntry
	 on free donation\n\nDm us for the location or ask someone about THE MOST 
	SECRET CELLAR in Linz
URL:https://kulturkarte.servus.at/event/cholesterin-live-at-the-most-secret
	-cellar-or-linz
LOCATION:Linz - various locations
STATUS:CONFIRMED
CATEGORIES:linz,experimental,contemporary music,experimental music,free imp
	rovised music,contemporary culture
X-ALT-DESC;FMTTYPE=text/html:<p>sonic discourse about the history of cardbo
	ard castles</p><p>Patrick Pillichshammer - drums<br>Daniel Bierdümpfl - gu
	itar, fx, synth<br>Philipp Wohofsky - keys, synth</p><p>__________________
	______<br><br><a href="https://danielbierduempfl.bandcamp.com/album/a-p-p-
	l-a-u-s" target="_blank">https://danielbierduempfl.bandcamp.com/album/a-p-
	p-l-a-u-s</a></p><p><a href="https://youtu.be/7YuUFhBZ-kg?si=LE12clB6fSDEr
	CEb" target="_blank"><strong>https://youtu.be/7YuUFhBZ-kg?si=LE12clB6fSDEr
	CEb</strong></a></p><p><a href="https://www.instagram.com/danielbierduempf
	l/" target="_blank"><strong>https://www.instagram.com/danielbierduempfl/</
	strong></a></p><p><a href="https://www.instagram.com/patrickpillichshammer
	/" target="_blank"><strong>https://www.instagram.com/patrickpillichshammer
	/</strong></a></p><p>________________________</p><p>Entry on free donation
	</p><p>Dm us for the location or ask someone about THE MOST SECRET CELLAR 
	in Linz</p>
BEGIN:VALARM
ACTION:DISPLAY
DESCRIPTION:CHOLESTERIN³ live at THE MOST SECRET CELLAR IN LINZ
TRIGGER:-PT1H
END:VALARM
END:VEVENT
END:VCALENDAR
