BEGIN:VCALENDAR
VERSION:2.0
CALSCALE:GREGORIAN
PRODID:adamgibbons/ics
METHOD:PUBLISH
X-PUBLISHED-TTL:PT1H
BEGIN:VEVENT
UID:160@kulturkarte.servus.at
SUMMARY:Cosmic Lithium LIVE
DTSTAMP:20260422T103559Z
DTSTART:20260320T210000Z
DTEND:20260321T010000Z
DESCRIPTION:Cosmic Lithium Live\n\nBlack Mass\, Emitter\,\nMarlene\, MQL Dj
	 Set\n\nMore info: https://sirup-linz.at/dates/cosmiclithium/\n[https://si
	rup-linz.at/dates/cosmiclithium/]
URL:https://kulturkarte.servus.at/event/cosmic-lithium-live
LOCATION:Sirup - Blütenstraße 1
STATUS:CONFIRMED
CATEGORIES:Karaoke,music,sirup
X-ALT-DESC;FMTTYPE=text/html:<p><strong>Cosmic Lithium</strong> Live<br><br
	><strong>Black Mass, Emitter,<br>Marlene, MQL</strong> Dj Set<br><br>More 
	info: <a target="_blank" href="https://sirup-linz.at/dates/cosmiclithium/"
	>https://sirup-linz.at/dates/cosmiclithium/</a></p>
BEGIN:VALARM
ACTION:DISPLAY
DESCRIPTION:Cosmic Lithium LIVE
TRIGGER:-PT1H
END:VALARM
END:VEVENT
END:VCALENDAR
