BEGIN:VCALENDAR
VERSION:2.0
CALSCALE:GREGORIAN
PRODID:adamgibbons/ics
METHOD:PUBLISH
X-PUBLISHED-TTL:PT1H
BEGIN:VEVENT
UID:186@kulturkarte.servus.at
SUMMARY:Digital Independecy Day
DTSTAMP:20260420T074239Z
DTSTART:20260503T120000Z
DTEND:20260503T153000Z
DESCRIPTION:Wo möchtest du anfangen? Von Whatsapp auf Signal\, von Gmail zu
	 einem ethischen\nEmailprovider wechseln? Linux installieren? Willst du er
	fahren\, was das\nFediverse ist und wie du mitmachen kannst? Suchst du alt
	ernative Software für\nbestimmte Bereiche?\n\nEs wird zunehmend klar\, das
	s die Abhängigkeit von US Big Tech nicht nur uns\npersönlich schadet\, son
	dern auch unserer Gesellschaft und Umwelt. Um diese\nAbhängigkeit zu verri
	ngern\, begehen wir monatlich den Digital Independence Day:\nhttps://di.da
	y [https://di.day]\n\nAm Sonntag\, 3. Mai 2026\, sind wir ab 14:00 im Will
	y*Fred Gassenlokal\, Graben 3\num den Wechsel von Big Tech in Richtung dem
	okratiefreundlicher digitaler\nAlternativen gemeinsam\, Schritt fur Schrit
	t anzufangen. Kommt mit\, bring\nFreund*innen mit\, und wir gehen gemeinsa
	m die ersten Schritte!\n\n\n\n
URL:https://kulturkarte.servus.at/event/digital-independecy-day
GEO:48.3060005;14.2900255
LOCATION:Willy*Fred - Graben 3\, 4020 Linz
STATUS:CONFIRMED
CATEGORIES:servus,digitalization,Willy*Fred
X-ALT-DESC;FMTTYPE=text/html:<p></p><p>Wo möchtest <strong>du</strong> anfa
	ngen? Von <strong>Whatsapp</strong> auf <strong>Signal</strong>, von <stro
	ng>Gmail</strong> zu einem <strong>ethischen Emailprovider</strong> wechse
	ln? <strong>Linux</strong> installieren? Willst du erfahren, was das <stro
	ng>Fediverse</strong> ist und wie du mitmachen kannst? Suchst du <strong>a
	lternative Software</strong> für bestimmte Bereiche?</p><p>Es wird zunehme
	nd klar, dass die Abhängigkeit von US Big Tech nicht nur uns persönlich sc
	hadet, sondern auch unserer Gesellschaft und Umwelt. Um diese Abhängigkeit
	 zu verringern, begehen wir monatlich den Digital Independence Day: <a tar
	get="_blank" href="https://di.day"><strong>https://di.day</strong></a> <br
	><br>Am <strong>Sonntag, 3. Mai 2026</strong>, sind wir <strong>ab 14:00</
	strong> im Willy*Fred Gassenlokal, <strong>Graben 3</strong> um den Wechse
	l von Big Tech in Richtung demokratiefreundlicher digitaler Alternativen g
	emeinsam, Schritt fur Schritt anzufangen. <strong>Kommt mit, bring Freund*
	innen mit, und wir gehen gemeinsam die ersten Schritte!</strong></p><p></p
	><p></p>
BEGIN:VALARM
ACTION:DISPLAY
DESCRIPTION:Digital Independecy Day
TRIGGER:-PT1H
END:VALARM
END:VEVENT
END:VCALENDAR
