BEGIN:VCALENDAR
VERSION:2.0
CALSCALE:GREGORIAN
PRODID:adamgibbons/ics
METHOD:PUBLISH
X-PUBLISHED-TTL:PT1H
BEGIN:VEVENT
UID:177@kulturkarte.servus.at
SUMMARY:Digital Independence Day
DTSTAMP:20260422T091213Z
DTSTART:20260405T120000Z
DTEND:20260405T160000Z
DESCRIPTION:On April 5th DiDay in Linz will be hosted by /dev/lol in cooper
	ation with\nservus.at [http://servus.at].\n\nDuring Digital Independence D
	ay we offer help in getting away from big tech to\nmore democratic alterna
	tives. This includes free open source software and\noperating systems\, as
	 well as decentralized online services.\n\n\n\nAm 5. April wird der DiDay 
	in Linz vom /dev/lol in Kooperation mit servus.at\n[http://servus.at] vera
	nstaltet.\n\nWährend dem Digitalen Unabhängigkeitstag bieten wir Hilfe an\
	, von Big Tech zu\ndemokratischeren Alternativen zu wechseln. Dies beinhal
	tet Freie Open Source\nSoftware und Betriebsysteme sowie dezentralisierte 
	Online Services.
URL:https://kulturkarte.servus.at/event/digital-independence-day-1
LOCATION:/dev/lol Hackerspace - Hofgasse 19\, Linz
STATUS:CONFIRMED
CATEGORIES:servus,/dev/lol,linz,open source,conversation,independence,skill
	-share,autonoma,big tech,f/loss,learning,decentralization
X-ALT-DESC;FMTTYPE=text/html:<p>On April 5th DiDay in Linz will be hosted b
	y /dev/lol in cooperation with <a href="http://servus.at" target="_blank">
	servus.at</a>.</p><p>During Digital Independence Day we offer help in gett
	ing away from big tech to more democratic alternatives. This includes free
	 open source software and operating systems, as well as decentralized onli
	ne services.</p><p></p><p>Am 5. April wird der DiDay in Linz vom /dev/lol 
	in Kooperation mit <a href="http://servus.at" target="_blank">servus.at</a
	> veranstaltet.</p><p>Während dem Digitalen Unabhängigkeitstag bieten wir 
	Hilfe an, von Big Tech zu demokratischeren Alternativen zu wechseln. Dies 
	beinhaltet Freie Open Source Software und Betriebsysteme sowie dezentralis
	ierte Online Services.</p>
BEGIN:VALARM
ACTION:DISPLAY
DESCRIPTION:Digital Independence Day
TRIGGER:-PT1H
END:VALARM
END:VEVENT
END:VCALENDAR
