BEGIN:VCALENDAR
VERSION:2.0
CALSCALE:GREGORIAN
PRODID:adamgibbons/ics
METHOD:PUBLISH
X-PUBLISHED-TTL:PT1H
BEGIN:VEVENT
UID:144@kulturkarte.servus.at
SUMMARY:Digital Independence Day
DTSTAMP:20260420T074239Z
DTSTART:20260301T140000Z
DTEND:20260301T170000Z
DESCRIPTION:Es wird zunehmend klar\, dass die Abhängigkeit von US Big Tech 
	nicht nur uns\npersönlich schadet\, sondern auch unsere Gesellschaft und d
	ie Umwelt. Um diese\nAbhängigkeit zu verringern\, schließt sich servus.at 
	[http://servus.at] dem\nDigital Independence Day an: https://di.day [https
	://di.day]\n\nAm Sonntag\, 1. März 2026\, treffen wir uns um 15:00 im serv
	us Clubraum\n(Kirchengasse 4\, 4040 Linz\, 1. Stock)\, um den Wechsel von 
	Big Tech richtung\ndemokratiefreundlichen digitalen Alternativen gemeinsam
	\, Schritt für Schritt\nanzufangen.\n\nWo möchtest du anfangen? Von Whatsa
	pp auf Signal\, von Gmail zu einem ethischen\nEmailprovider wechseln? Linu
	x installieren? Willst du erfahren\, was das Fedivers\nist und wie du mitm
	achen kannst? Suchst du alternative Software für bestimmte\nBereiche?\n\nK
	omme einfach vorbei\, bringe Freund*innen mit\, und wir fangen gemeinsam m
	it den\nersten Schritten an.\n\n\n\nIt is increasingly obvious that depend
	ency on US Big Tech harms us not only\npersonally\, but also harms our soc
	iety and our environment. To help reduce this\ndependency\, servus.at [htt
	p://servus.at] joins the Digital Independence Day:\nhttps://di.day [https:
	//di.day]\n\nOn Sunday\, 1 March 2026\, we will meet at 3 p.m. in the serv
	us Clubraum\n(Kirchengasse 4\, 4040 Linz\, 1st floor) to begin the switch 
	from Big Tech to\ndemocracy-aligned digital alternatives together\, step b
	y step.\n\nWhere would you like to start? By switching from Whatsapp to Si
	gnal or from\nGmail to an ethical email provider? By installing Linux? Do 
	you want to find out\nwhat the Fediverse is and how you can join? Are you 
	looking for alternative\nsoftware for certain tasks?\n\nCome by and join u
	s\, bring your friends\, and we will start taking the first\nsteps togethe
	r.\n\n
URL:https://kulturkarte.servus.at/event/digital-independence-day
LOCATION:servus clubraum - Kirchengasse 4\, 4040 Linz
STATUS:CONFIRMED
CATEGORIES:servus,linz,digitalization,community,hacking,DI.Day
X-ALT-DESC;FMTTYPE=text/html:<p>Es wird zunehmend klar, dass die Abhängigke
	it von US Big Tech nicht nur uns persönlich schadet, sondern auch unsere G
	esellschaft und die Umwelt. Um diese Abhängigkeit zu verringern, schließt 
	sich <a target="_blank" href="http://servus.at">servus.at</a> dem Digital 
	Independence Day an: <a target="_blank" href="https://di.day">https://di.d
	ay</a></p><p>Am Sonntag, 1. März 2026, treffen wir uns um 15:00 im servus 
	Clubraum (Kirchengasse 4, 4040 Linz, 1. Stock), um den Wechsel von Big Tec
	h richtung demokratiefreundlichen digitalen Alternativen gemeinsam, Schrit
	t für Schritt anzufangen.</p><p>Wo möchtest du anfangen? Von Whatsapp auf 
	Signal, von Gmail zu einem ethischen Emailprovider wechseln? Linux install
	ieren? Willst du erfahren, was das Fedivers ist und wie du mitmachen kanns
	t? Suchst du alternative Software für bestimmte Bereiche?</p><p>Komme einf
	ach vorbei, bringe Freund*innen mit, und wir fangen gemeinsam mit den erst
	en Schritten an.</p><p></p><p>It is increasingly obvious that dependency o
	n US Big Tech harms us not only personally, but also harms our society and
	 our environment. To help reduce this dependency, <a target="_blank" href=
	"http://servus.at">servus.at</a> joins the Digital Independence Day: <a ta
	rget="_blank" href="https://di.day">https://di.day</a></p><p>On Sunday, 1 
	March 2026, we will meet at 3 p.m. in the servus Clubraum (Kirchengasse 4,
	 4040 Linz, 1st floor) to begin the switch from Big Tech to democracy-alig
	ned digital alternatives together, step by step.</p><p>Where would you lik
	e to start? By switching from Whatsapp to Signal or from Gmail to an ethic
	al email provider? By installing Linux? Do you want to find out what the F
	ediverse is and how you can join? Are you looking for alternative software
	 for certain tasks?</p><p>Come by and join us, bring your friends, and we 
	will start taking the first steps together.</p><p></p>
BEGIN:VALARM
ACTION:DISPLAY
DESCRIPTION:Digital Independence Day
TRIGGER:-PT1H
END:VALARM
END:VEVENT
END:VCALENDAR
