BEGIN:VCALENDAR
VERSION:2.0
CALSCALE:GREGORIAN
PRODID:adamgibbons/ics
METHOD:PUBLISH
X-PUBLISHED-TTL:PT1H
BEGIN:VEVENT
UID:164@kulturkarte.servus.at
SUMMARY:Drink & Draw
DTSTAMP:20260420T052241Z
DTSTART:20260327T170000Z
DTEND:20260327T200000Z
DESCRIPTION:It's time for Drink & Draw again on 27th of March!\n\nThis time
	\, it's a collaboration between @illustrationladies_linz \,\n@nextcomicfes
	tival \, @salzamtlinz and @potatopublishing\n\nSharpen your pencils\, leav
	e your erasers at home\, but feel free to bring your\nfriends and come to\
	n\n📍Atelierhaus Salzamt\n\nObere Donaulände 15\, 4020 Linz\n\n🗓 March 27\n
	\n⏰ 6 p.m.\n\nLots of exciting drawing activities await you. We look forwa
	rd to seeing you\nthere!\n\n🍻📝\n\n\n\n
URL:https://kulturkarte.servus.at/event/drink-and-draw
GEO:48.306314;14.2831836
LOCATION:Salzamt - Obere Donaulände 15\, 4020 Linz
STATUS:CONFIRMED
CATEGORIES:potato publishing,drink,draw
X-ALT-DESC;FMTTYPE=text/html:<p>It's time for Drink &amp; Draw again on 27t
	h of March!</p><p>This time, it's a collaboration between @illustrationlad
	ies_linz , @nextcomicfestival , @salzamtlinz and @potatopublishing </p><p>
	Sharpen your pencils, leave your erasers at home, but feel free to bring y
	our friends and come to  </p><p>📍Atelierhaus Salzamt </p><p>Obere Donaulän
	de 15, 4020 Linz <br><br>🗓 March 27 </p><p>⏰ 6 p.m.</p><p>Lots of exciting
	 drawing activities await you. We look forward to seeing you there! </p><p
	>🍻📝</p><p></p><p></p>
BEGIN:VALARM
ACTION:DISPLAY
DESCRIPTION:Drink & Draw
TRIGGER:-PT1H
END:VALARM
END:VEVENT
END:VCALENDAR
