BEGIN:VCALENDAR
VERSION:2.0
CALSCALE:GREGORIAN
PRODID:adamgibbons/ics
METHOD:PUBLISH
X-PUBLISHED-TTL:PT1H
BEGIN:VEVENT
UID:187@kulturkarte.servus.at
SUMMARY:ELEKTRO GUZZI LIVE @  Katalogpräsentation Festival der Regionen\, R
	ealistische Träume
DTSTAMP:20260421T211753Z
DTSTART:20260425T150000Z
DESCRIPTION:25. April 2026\, Kulturhaus GUGG\, Braunau\n\nDas Festival der 
	Regionen 2025 in Braunau a. I. ist vorbei. Realistische Träume\nund ihre S
	puren sind geblieben. In den Straßen\, auf den Stadtplätzen\, an der\nInn-
	Au\, auf den Inn-Brücken und in den Leerständen. Vor allem aber leben\nPro
	jekte und Begegnungen in den Köpfen der Menschen weiter\, die das Festival
	\nermöglicht\, begleitet und besucht haben. \n\nIn den letzten Monaten hab
	en wir das Festival der Regionen 2025 dokumentiert und\nreflektiert\, Bild
	er und Texte zusammengetragen. Daraus ist ein Katalog\nentstanden\, der ze
	igt\, wie vielfältig dieses Festival war.\n\nWie wirken künstlerische Impu
	lse in einer Region nach? Wie verändern Begegnungen\nund kollektive künstl
	erische Prozesse den öffentlichen Raum? Und wo finden sich\ndie Spuren der
	 Veränderung?\n\nDer Katalog zum Festival der Regionen 2025 gibt Antworten
	 – nicht als\nnostalgischer Rückblick\, sondern als Bestandsaufnahme desse
	n\, was „Realistische\nTräume“ in Bewegung setzen. \n\nAuf über 200 Seiten
	 dokumentiert der Katalog ein Festival\, das über das Ereignis\nselbst hin
	ausreicht: 34 künstlerische Projekte und über 200 Beteiligte haben\nBrauna
	u und das Innviertel temporär in Bewegung gesetzt.\n\nProgramm:\n\n17 Uhr 
	 Filmvorführung\n*     „Tanzdorf“ (Simon Mayer & Hannah Shakti Bühler)\n\n
	19 Uhr Katalogpräsentation \n*       Talks Talks Talks\n*       Hühnervers
	teigerung von Arbeiten von Hanna Kirman (Projekt “Freiland”)\,\nHosts: ART
	 DISCOUNT 24\n*       Modenschau von Elke Kaiser\n\n21:00 Uhr Konzert\n*  
	     Elektro Guzzi LIVE\n\nKulinarische Versorgung: ZIMT – Zentrum für Int
	erkulturalität\, Miteinander und\nTeilhabe.\n\nHighlight:\nElektro Guzzi p
	räsentieren ihr 11. Studioalbum „Liquid Center“ live. Das Trio\nhat über e
	in Jahr an einer Aufnahmetechnik gefeilt\, die ihre analoge\nLive-Energie 
	direkt in einen dichten\, präzisen Sound übersetzt. Das steht\nirgendwo zw
	ischen physischer Präsenz im Raum und der kühlen Klarheit von Techno.\nKei
	ne Show für den Hintergrund\, sondern Musik\, die einen reinzieht und die 
	Beine\nin Bewegung setzt. Kurz: „A force to be reckoned with“ (Resident Ad
	visor).\n\nKommt vorbei\, holt euch den Katalog und tanzt mit uns. \nFreiw
	illige Spende. Tickets bitte vorab sichern:\n\nTickets\n[https://fdr.at/wp
	-admin/admin-ajax.php?action=tnptr&nltr=MDs2MjU1O2h0dHBzOi8va3VwZnRpY2tldC
	5jb20vZXZlbnRzL2thdGFsb2dwcmFlc2VudGF0aW9uLWZlc3RpdmFsLWRlci1yZWdpb25lbjs7
	ODcwMWFiMTQzYjJhYTJhMTFmYzRlOWJhY2NmMWZiMzU%3D]
URL:https://kulturkarte.servus.at/event/elektro-guzzi-live-katalogprasentat
	ion-festival-der-regionen-realistische-traume
GEO:48.2588463;13.0361987
LOCATION:Kulturhaus GUGG\, Braunau - Palmstraße 4\, 5280 Braunau am Inn\, Ö
	sterreich
STATUS:CONFIRMED
CATEGORIES:festival,Konzert,fdr,regionen,braunau,katalog
X-ALT-DESC;FMTTYPE=text/html:<p><strong>25. April 2026, Kulturhaus&nbsp;GUG
	G, Braunau</strong></p><p><strong>Das Festival der Regionen 2025 in Brauna
	u a. I. ist vorbei. Realistische Träume und ihre Spuren sind geblieben</st
	rong>. In den Straßen, auf den Stadtplätzen, an der Inn-Au, auf den Inn-Br
	ücken und in den Leerständen. Vor allem aber leben Projekte und Begegnunge
	n in den Köpfen der Menschen weiter, die das Festival ermöglicht, begleite
	t und besucht haben.&nbsp;</p><p>In den letzten Monaten haben wir das Fest
	ival der Regionen 2025 dokumentiert und reflektiert, Bilder und Texte zusa
	mmengetragen. Daraus ist ein Katalog entstanden, der zeigt, wie vielfältig
	 dieses Festival war.</p><p>Wie wirken künstlerische Impulse in einer Regi
	on nach? Wie verändern Begegnungen und kollektive künstlerische Prozesse d
	en öffentlichen Raum? Und wo finden sich die Spuren der Veränderung?</p><p
	>Der Katalog zum Festival der Regionen 2025 gibt Antworten – nicht als nos
	talgischer Rückblick, sondern als Bestandsaufnahme dessen, was „Realistisc
	he Träume“ in Bewegung setzen.&nbsp;</p><p>Auf über 200 Seiten dokumentier
	t der Katalog ein Festival, das über das Ereignis selbst hinausreicht: 34 
	künstlerische Projekte und über 200 Beteiligte haben Braunau und das Innvi
	ertel temporär in Bewegung gesetzt.</p><p><strong>Programm</strong>:</p><p
	><strong>17 Uhr</strong>&nbsp; Filmvorführung<br>*&nbsp; &nbsp; &nbsp;„Tan
	zdorf“ (Simon Mayer &amp; Hannah Shakti Bühler)<br><br><strong>19 Uhr</str
	ong> Katalogpräsentation&nbsp;<br>*&nbsp; &nbsp; &nbsp; &nbsp;Talks Talks 
	Talks<br>*&nbsp; &nbsp; &nbsp; &nbsp;Hühnerversteigerung von Arbeiten von 
	Hanna Kirman (Projekt “Freiland”), Hosts: ART DISCOUNT 24<br>*&nbsp;&nbsp;
	&nbsp;&nbsp;&nbsp;&nbsp; Modenschau von Elke Kaiser<br><br><strong>21:00 U
	hr</strong> Konzert<br>*&nbsp;&nbsp;&nbsp;&nbsp;&nbsp;&nbsp; Elektro Guzzi
	 LIVE</p><p><strong>Kulinarische Versorgung: ZIMT – Zentrum für Interkultu
	ralität, Miteinander und Teilhabe.</strong></p><p><strong>Highlight:</stro
	ng><br><strong>Elektro Guzzi</strong>&nbsp;präsentieren ihr 11. Studioalbu
	m „Liquid Center“ live. Das Trio hat über ein Jahr an einer Aufnahmetechni
	k gefeilt, die ihre analoge Live-Energie direkt in einen dichten, präzisen
	 Sound übersetzt. Das steht irgendwo zwischen physischer Präsenz im Raum u
	nd der kühlen Klarheit von Techno. Keine Show für den Hintergrund, sondern
	 Musik, die einen reinzieht und die Beine in Bewegung setzt. Kurz: „A forc
	e to be reckoned with“ (Resident Advisor).</p><p>Kommt vorbei, holt euch d
	en Katalog und tanzt mit uns.&nbsp;<br><strong>Freiwillige Spende. Tickets
	 bitte vorab sichern:</strong></p><p><a target="_blank" href="https://fdr.
	at/wp-admin/admin-ajax.php?action=tnptr&amp;nltr=MDs2MjU1O2h0dHBzOi8va3VwZ
	nRpY2tldC5jb20vZXZlbnRzL2thdGFsb2dwcmFlc2VudGF0aW9uLWZlc3RpdmFsLWRlci1yZWd
	pb25lbjs7ODcwMWFiMTQzYjJhYTJhMTFmYzRlOWJhY2NmMWZiMzU%3D"><strong>Tickets</
	strong></a></p>
BEGIN:VALARM
ACTION:DISPLAY
DESCRIPTION:ELEKTRO GUZZI LIVE @  Katalogpräsentation Festival der Regionen
	, Realistische Träume
TRIGGER:-PT1H
END:VALARM
END:VEVENT
END:VCALENDAR
