BEGIN:VCALENDAR
VERSION:2.0
CALSCALE:GREGORIAN
PRODID:adamgibbons/ics
METHOD:PUBLISH
X-PUBLISHED-TTL:PT1H
BEGIN:VEVENT
UID:188@kulturkarte.servus.at
SUMMARY:Exhibition Opening: "Hobby" with Stefan Brandmayr / Pia Mayrwöger
DTSTAMP:20260422T182822Z
DTSTART:20260423T170000Z
DESCRIPTION:HOBBY\n\n * Stefan Brandmayr / Pia Mayrwöger\n\n * 23.04.2026 –
	 08.05.2026\n\nExhibition Opening: April 23rd\, 7pm\nOpening hours: 23. Ap
	ril 2026 – 08. May 2026\nWednesday – Friday\, 3 – 6pm or individual appoin
	tments\n\nEin Hoch auf den Feierabend. Hobby machen\, Hobby rauchen. Oppor
	tunities for\nsocial connection and skill development. Leidenschaft trifft
	 Besessenheit. Wir\nholpern durch den Alltag\, laut und erzeugend: Baggern
	 im Hinterhof\, Vogelhäuser\nbauen. Für Leute\, die nicht mögen\, was sie 
	tun. Hobby riecht nach Kleber.\n\nStefan Brandmayrs Skulpturen bestehen au
	s Kombiniationen von Stahldraht\,\nPresspan\, Epoxidharz\, Fiberglas und S
	tyrodur. Sie sind bunt\, verhandeln\nGeometrien und Volumen\, zelebrieren 
	das Wackelige und inszenieren sich als\nhandwerkliche Laien. Spuren der Pr
	oduktion werden immer umarmt\, niemals\nverwischt.\nhttps://www.stefanbran
	dmayr.net/ [https://www.stefanbrandmayr.net/]\n\nPia Mayrwöger lebte und a
	rbeitete als freischaffende Künstlerin in Linz. In\nihrer künstlerischen P
	raxis beschäftigte sie sich weitestgehend mit dem\nThemenfeld Arbeit. Mit 
	Hilfe von einfachen Maschinen lotete Sie die Grenzen\nzwischen industriell
	er Produktion und dem Wert des künstlerischen Objekts aus.\nIhre Arbeit wu
	rde unter anderem mit dem Arbeiterkammer Kunstpreis (2021)\, dem\nArbeitss
	tipendium des Bundesministeriums für Wissenschaft und Forschung und\nBildu
	ng (2021/2022) sowie dem Linz AG Atelierstipendium der Kunstförderpreise\n
	der Stadt Linz (2022/2023) ausgezeichnet und werden im In- und Ausland gez
	eigt.\nhttps://www.piamayrwoeger.at/ [https://www.piamayrwoeger.at/]
URL:https://kulturkarte.servus.at/event/exhibition-opening-hobby-with-stefa
	n-brandmayr-pia-mayrwoger
GEO:48.3004043;14.2850196
LOCATION:bb15 – space for contemporary art - Hafnerstraße 4\, 4020 Linz
STATUS:CONFIRMED
CATEGORIES:exhibition,bb15,opening,hobby,hobbyist,pia mayrwöger,stefan bran
	dmayr,work,labor,relax,social,feierabend,passion,leidenschaft,kleber
X-ALT-DESC;FMTTYPE=text/html:<h1>Hobby</h1><ul><li><p>Stefan Brandmayr / Pi
	a Mayrwöger</p></li><li><p>23.04.2026 – 08.05.2026</p></li></ul><p><strong
	>Exhibition Opening</strong>: <strong>April 23rd, 7pm</strong><br><strong>
	Opening hours</strong>: 23. April 2026 – 08. May 2026<br>Wednesday – Frida
	y, 3 – 6pm or individual appointments</p><p>Ein Hoch auf den Feierabend. H
	obby machen, Hobby rauchen. Opportunities for social connection and skill 
	development. Leidenschaft trifft Besessenheit. Wir holpern durch den Allta
	g, laut und erzeugend: Baggern im Hinterhof, Vogelhäuser bauen. Für Leute,
	 die nicht mögen, was sie tun. Hobby riecht nach Kleber.</p><p>Stefan Bran
	dmayrs Skulpturen bestehen aus Kombiniationen von Stahldraht, Presspan, Ep
	oxidharz, Fiberglas und Styrodur. Sie sind bunt, verhandeln Geometrien und
	 Volumen, zelebrieren das Wackelige und inszenieren sich als handwerkliche
	 Laien. Spuren der Produktion werden immer umarmt, niemals verwischt.<br><
	a target="_blank" href="https://www.stefanbrandmayr.net/">https://www.stef
	anbrandmayr.net/</a></p><p>Pia Mayrwöger lebte und arbeitete als freischaf
	fende Künstlerin in Linz. In ihrer künstlerischen Praxis beschäftigte sie 
	sich weitestgehend mit dem Themenfeld Arbeit. Mit Hilfe von einfachen Masc
	hinen lotete Sie die Grenzen zwischen industrieller Produktion und dem Wer
	t des künstlerischen Objekts aus. Ihre Arbeit wurde unter anderem mit dem 
	Arbeiterkammer Kunstpreis (2021), dem Arbeitsstipendium des Bundesminister
	iums für Wissenschaft und Forschung und Bildung (2021/2022) sowie dem Linz
	 AG Atelierstipendium der Kunstförderpreise der Stadt Linz (2022/2023) aus
	gezeichnet und werden im In- und Ausland gezeigt. <br><a target="_blank" h
	ref="https://www.piamayrwoeger.at/">https://www.piamayrwoeger.at/</a></p>
BEGIN:VALARM
ACTION:DISPLAY
DESCRIPTION:Exhibition Opening: "Hobby" with Stefan Brandmayr / Pia Mayrwög
	er
TRIGGER:-PT1H
END:VALARM
END:VEVENT
END:VCALENDAR
