BEGIN:VCALENDAR
VERSION:2.0
CALSCALE:GREGORIAN
PRODID:adamgibbons/ics
METHOD:PUBLISH
X-PUBLISHED-TTL:PT1H
BEGIN:VEVENT
UID:128@kulturkarte.servus.at
SUMMARY:Gabriel Zucker "Confession" // LIVE AT RAUMSCHIFF
DTSTAMP:20260420T135901Z
DTSTART:20260329T173000Z
DTEND:20260329T210000Z
DESCRIPTION:Gabriel Zucker's sixth studio record\, Confession\, released in
	 November 2025 on\nBoomslang Records\, is an album of urgently emotional m
	usic for disconnected\ntimes. Alternately ethereal and bombastic\, electro
	nic and acoustic\, vocal and\ninstrumental\, Confession is a deeply human 
	reflection on what it means to know\nanother person.\n\nAs with much of Zu
	cker's previous work\, Confession's 59 minutes represent not\njust a colle
	ction\nof tracks but one unified composition\, arranged in four continuous
	 acts\, written\nmainly at the\nheight of the pandemic in the deserts of N
	ew Mexico. Bringing the record to life\nis a murderer's row of the finest 
	and most creative musicians in New York's\nexperimental\, jazz\, and indie
	 scenes — and a unique production style as\nthoughtful and protean as the 
	composition.\n\nhttps://gabrielzucker.bandcamp.com/album/confession\n[http
	s://gabrielzucker.bandcamp.com/album/confession]\n\ngabrielzucker.com/zuck
	ergyarfas.html\n[https://l.facebook.com/l.php?u=http%3A%2F%2Fgabrielzucker
	.com%2Fzuckergyarfas.html%3Ffbclid%3DIwZXh0bgNhZW0CMTAAYnJpZBExUjBmb0hKaWx
	uSDFBeWE2RXNydGMGYXBwX2lkEDIyMjAzOTE3ODgyMDA4OTIAAR7E2ZF23MIld8iaWrehcfUQ7
	HjacAv_b_PTTOlDqY-FbLqODYvGiG9_-nHA2Q_aem_a_q4tbHIMXPsLw3BCf6DHw&h=AT0r45M
	QHNGZPxn64xgWNTexfKXu52-wTRRonUQi5zhdA6BMZnLUh6r56ZZXRNDzpfvFPe2zRKHIM1ACg
	huwtwobVlP4hQRWfgyttDs4Law6jGtOJtJjcAadnuLKSAR5y3ij8QfG6WsuvXW2kcEIig&__tn
	__=q&c[0]=AT2bpQAlm5AuPauw9jr-_wE4HqSSvzYj6zsJFMZ8M6A6-izofJq06EPTFa8QuZ70
	uCZReRuZkOrc3fy1xucCtab46vwA56C-f8D7Na94c7lAuStR4JxquPebxO4UJQPR3NH917cmcW
	vZpdyHs9M8jyKa8KtCgmE8cMI]\n\nAmerican multi-instrumentalist Gabriel Zucke
	r (piano\, synth\, voice) and\nHungarian drummer Attila Gyárfás have been 
	making music since they met in 2017\nin New York. Living in separate conti
	nents\, Zucker and Gyárfás have developed\nthe unique synergy of their wid
	e-ranging and ambitious duo project playing in\nshort spans of a week or t
	wo at a time on the road in diverse venues — from\ncandle-lit jazz clubs i
	n Edinburgh and Istanbul to an electronic music venue\nbuilt out of repurp
	osed car speakers in Timişoara\; from an art gallery in London\nto a sculp
	ture park outside of Cluj-Napoca. Performing sometimes with a grand\npiano
	 and a high-fi sound system\, but sometimes with a skeletal drum kit\, a\n
	synthesizer\, and a single speaker\, the duo is at home within a remarkabl
	e range\nof sounds: passages of complex contrapuntal chamber music are fol
	lowed by noisy\nimprovised soundscapes punctuated by Gyárfás's gong synthe
	sizer\, and followed\nagain by Zucker's plaintive lullabies.\n\nEntry on f
	ree donation
URL:https://kulturkarte.servus.at/event/gabriel-zucker-confession-live-at-r
	aumschiff
LOCATION:Raumschiff - Pfarrplatz 18
STATUS:CONFIRMED
CATEGORIES:
X-ALT-DESC;FMTTYPE=text/html:<p>Gabriel Zucker's sixth studio record, Confe
	ssion, released in November 2025 on Boomslang Records, is an album of urge
	ntly emotional music for disconnected times. Alternately ethereal and bomb
	astic, electronic and acoustic, vocal and instrumental, Confession is a de
	eply human reflection on what it means to know another person.</p><p>As wi
	th much of Zucker's previous work, Confession's 59 minutes represent not j
	ust a collection<br>of tracks but one unified composition, arranged in fou
	r continuous acts, written mainly at the<br>height of the pandemic in the 
	deserts of New Mexico. Bringing the record to life is a murderer's row of 
	the finest and most creative musicians in New York's experimental, jazz, a
	nd indie scenes — and a unique production style as thoughtful and protean 
	as the composition.</p><p><a target="_blank" href="https://gabrielzucker.b
	andcamp.com/album/confession"><strong>https://gabrielzucker.bandcamp.com/a
	lbum/confession</strong></a></p><p><a target="_blank" href="https://l.face
	book.com/l.php?u=http%3A%2F%2Fgabrielzucker.com%2Fzuckergyarfas.html%3Ffbc
	lid%3DIwZXh0bgNhZW0CMTAAYnJpZBExUjBmb0hKaWxuSDFBeWE2RXNydGMGYXBwX2lkEDIyMj
	AzOTE3ODgyMDA4OTIAAR7E2ZF23MIld8iaWrehcfUQ7HjacAv_b_PTTOlDqY-FbLqODYvGiG9_
	-nHA2Q_aem_a_q4tbHIMXPsLw3BCf6DHw&amp;h=AT0r45MQHNGZPxn64xgWNTexfKXu52-wTR
	RonUQi5zhdA6BMZnLUh6r56ZZXRNDzpfvFPe2zRKHIM1ACghuwtwobVlP4hQRWfgyttDs4Law6
	jGtOJtJjcAadnuLKSAR5y3ij8QfG6WsuvXW2kcEIig&amp;__tn__=q&amp;c[0]=AT2bpQAlm
	5AuPauw9jr-_wE4HqSSvzYj6zsJFMZ8M6A6-izofJq06EPTFa8QuZ70uCZReRuZkOrc3fy1xuc
	Ctab46vwA56C-f8D7Na94c7lAuStR4JxquPebxO4UJQPR3NH917cmcWvZpdyHs9M8jyKa8KtCg
	mE8cMI"><strong>gabrielzucker.com/zuckergyarfas.html</strong></a></p><p>Am
	erican multi-instrumentalist Gabriel Zucker (piano, synth, voice) and Hung
	arian drummer Attila Gyárfás have been making music since they met in 2017
	 in New York. Living in separate continents, Zucker and Gyárfás have devel
	oped the unique synergy of their wide-ranging and ambitious duo project pl
	aying in short spans of a week or two at a time on the road in diverse ven
	ues — from candle-lit jazz clubs in Edinburgh and Istanbul to an electroni
	c music venue built out of repurposed car speakers in Timişoara; from an a
	rt gallery in London to a sculpture park outside of Cluj-Napoca. Performin
	g sometimes with a grand piano and a high-fi sound system, but sometimes w
	ith a skeletal drum kit, a synthesizer, and a single speaker, the duo is a
	t home within a remarkable range of sounds: passages of complex contrapunt
	al chamber music are followed by noisy improvised soundscapes punctuated b
	y Gyárfás's gong synthesizer, and followed again by Zucker's plaintive lul
	labies.</p><p>Entry on free donation</p>
BEGIN:VALARM
ACTION:DISPLAY
DESCRIPTION:Gabriel Zucker "Confession" // LIVE AT RAUMSCHIFF
TRIGGER:-PT1H
END:VALARM
END:VEVENT
END:VCALENDAR
