BEGIN:VCALENDAR
VERSION:2.0
CALSCALE:GREGORIAN
PRODID:adamgibbons/ics
METHOD:PUBLISH
X-PUBLISHED-TTL:PT1H
BEGIN:VEVENT
UID:165@kulturkarte.servus.at
SUMMARY:Game Boy Music Workshop
DTSTAMP:20260420T163021Z
DTSTART:20260404T120000Z
DESCRIPTION:Game Boy Music Workshop\n\nwhere: STWST/servus.at [http://servu
	s.at]\, Kirchengasse 4\, 4040 Linz @stwstlinz\n@servusat\n\nworkshop fee: 
	free donation\n\nplease register: noiselab.linz@gmail.com\n\nShort Descrip
	tion:\n\nDive into the world of #lofi electronics in our #gameboy Music Wo
	rkshop and\ndiscover how to craft hypnotic #chiptune soundscapes using #na
	noloop\n\nYou’ll learn the essentials of sequencing on the classic handhel
	d #console\nexploring how simple waveforms and intuitive pattern-building 
	can transform the\nGame Boy into a fully expressive instrument for your ow
	n sonic experiments\n\nNo prior knowledge required. Bring your own Headpho
	nes and if you have\, your own\ngameboy!\n\n
URL:https://kulturkarte.servus.at/event/game-boy-music-workshop
LOCATION:servus clubraum - Kirchengasse 4\, 4040 Linz
STATUS:CONFIRMED
CATEGORIES:workshop,noiselab,chiptune,8bit
X-ALT-DESC;FMTTYPE=text/html:<p>Game Boy Music Workshop</p><p>where: STWST/
	<a target="_blank" href="http://servus.at">servus.at</a>, Kirchengasse 4, 
	4040 Linz @stwst<em>linz @servus</em>at</p><p>workshop fee: free donation<
	/p><p>please register: noiselab.linz@gmail.com</p><p>Short Description:</p
	><p>Dive into the world of #lofi electronics in our #gameboy Music Worksho
	p and discover how to craft hypnotic #chiptune soundscapes using #nanoloop
	</p><p>You’ll learn the essentials of sequencing on the classic handheld #
	console exploring how simple waveforms and intuitive pattern-building can 
	transform the Game Boy into a fully expressive instrument for your own son
	ic experiments</p><p>No prior knowledge required. Bring your own Headphone
	s and if you have, your own gameboy!<br><br></p>
BEGIN:VALARM
ACTION:DISPLAY
DESCRIPTION:Game Boy Music Workshop
TRIGGER:-PT1H
END:VALARM
END:VEVENT
END:VCALENDAR
