BEGIN:VCALENDAR
VERSION:2.0
CALSCALE:GREGORIAN
PRODID:adamgibbons/ics
METHOD:PUBLISH
X-PUBLISHED-TTL:PT1H
BEGIN:VEVENT
UID:182@kulturkarte.servus.at
SUMMARY:Hacknight
DTSTAMP:20260420T050235Z
DTSTART:20260416T170000Z
DESCRIPTION:Die Hacknacht findet jeden Donnerstag im /dev/lol statt und ist
	 die beste\nGelegenheit uns kennen zu lernen und Teil unserer Community zu
	 werden. Es wird\ngehackt\, gebastelt\, gelötet\, geredet und regelmäßig a
	uch ein Jour Fixe\nabgehalten.\n\nThe Hacknight is happening every Thursda
	y at /dev/lol and the best occasion to\nget to know us and become part of 
	our community. We hack\, make\, solder\, talk and\nregularily hold our Jou
	r Fixe.
URL:https://kulturkarte.servus.at/event/hacknight-12
LOCATION:/dev/lol Hackerspace - Hofgasse 19\, Linz
STATUS:CONFIRMED
CATEGORIES:linz,/dev/lol,hacking
X-ALT-DESC;FMTTYPE=text/html:<p>Die Hacknacht findet jeden Donnerstag im /d
	ev/lol statt und ist die beste Gelegenheit uns kennen zu lernen und Teil u
	nserer Community zu werden. Es wird gehackt, gebastelt, gelötet, geredet u
	nd regelmäßig auch ein Jour Fixe abgehalten.</p><p>The Hacknight is happen
	ing every Thursday at /dev/lol and the best occasion to get to know us and
	 become part of our community. We hack, make, solder, talk and regularily 
	hold our Jour Fixe.</p>
BEGIN:VALARM
ACTION:DISPLAY
DESCRIPTION:Hacknight
TRIGGER:-PT1H
END:VALARM
END:VEVENT
END:VCALENDAR
