BEGIN:VCALENDAR
VERSION:2.0
CALSCALE:GREGORIAN
PRODID:adamgibbons/ics
METHOD:PUBLISH
X-PUBLISHED-TTL:PT1H
BEGIN:VEVENT
UID:173@kulturkarte.servus.at
SUMMARY:Hast du mal eine Minute? Kampagne für eine 30er Zone in der Linzer 
	Innenstadt
DTSTAMP:20260420T145619Z
DTSTART:20260328T160000Z
DTEND:20260328T180000Z
DESCRIPTION:Wir wollen nicht länger hinnehmen\, dass zwei Durchzugsstraßen 
	mitten durch das\nHerz unserer Stadt schneiden und starten eine Kampagne f
	ür eine lebenswertere\nInnenstadt. Bist du dabei?\n\nDas monatliche „Und Ä
	ktschn!“ ist die einfachste Möglichkeit\, dich der Kampagne\nanzuschließen
	. Du lernst uns persönlich kennen und erfährst\, wie du dich\neinbringen k
	annst. Wir können alle Talente brauchen\, komm einfach vorbei. Damit\nin Z
	ukunft hier das Leben brummt anstatt der Autos!\n\nNächste Termine (jeweil
	s 17-19 Uhr im Hausprojekt Willy*Fred\, Graben 3):\n\nSa\, 28.3.26\n\nSa\,
	 18.4.26\n\nDu hast an diesen Terminen keine Zeit und möchtest informiert 
	bleiben? Melde\ndich für unseren Newsletter an:\nhttps://newsletter.nurein
	eminute.at/subscription/form\n[https://newsletter.nureineminute.at/subscri
	ption/form]
URL:https://kulturkarte.servus.at/event/hast-du-mal-eine-minute-kampagne-fu
	r-eine-30er-zone-in-der-linzer-innenstadt
GEO:48.3060005;14.2900255
LOCATION:Willy*Fred - Graben 3\, 4020 Linz
STATUS:CONFIRMED
CATEGORIES:linz,Willy*Fred,Verkehrsberuhigung
X-ALT-DESC;FMTTYPE=text/html:<p>Wir wollen nicht länger hinnehmen, dass zwe
	i Durchzugsstraßen mitten durch das Herz unserer Stadt schneiden und start
	en eine Kampagne für eine lebenswertere Innenstadt. Bist du dabei?</p><p>D
	as monatliche „Und Äktschn!“ ist die einfachste Möglichkeit, dich der Kamp
	agne anzuschließen. Du lernst uns persönlich kennen und erfährst, wie du d
	ich einbringen kannst. Wir können alle Talente brauchen, komm einfach vorb
	ei. Damit in Zukunft hier das Leben brummt anstatt der Autos!</p><p>Nächst
	e Termine (jeweils 17-19 Uhr im Hausprojekt Willy*Fred, Graben 3):</p><p>S
	a, 28.3.26</p><p>Sa, 18.4.26</p><p>Du hast an diesen Terminen keine Zeit u
	nd möchtest informiert bleiben? Melde dich für unseren Newsletter an: <a t
	arget="_blank" href="https://newsletter.nureineminute.at/subscription/form
	">https://newsletter.nureineminute.at/subscription/form</a></p>
BEGIN:VALARM
ACTION:DISPLAY
DESCRIPTION:Hast du mal eine Minute? Kampagne für eine 30er Zone in der Lin
	zer Innenstadt
TRIGGER:-PT1H
END:VALARM
END:VEVENT
END:VCALENDAR
