BEGIN:VCALENDAR
VERSION:2.0
CALSCALE:GREGORIAN
PRODID:adamgibbons/ics
METHOD:PUBLISH
X-PUBLISHED-TTL:PT1H
BEGIN:VEVENT
UID:123@kulturkarte.servus.at
SUMMARY:JOAQUIN ORTEGA ( ARG ) + DANIEL BIERDÜMPFL ( AT ) // LIVE AT RAUMSC
	HIFF
DTSTAMP:20260420T135843Z
DTSTART:20260219T200000Z
DTEND:20260219T220000Z
DESCRIPTION:Joaquin Ortega is an Argentine musician based between Paris and
	 Bern.\n\nIn his solo project he explores the interaction between the guit
	ar and field\nrecordings\, alongside bodily movement and contemporary musi
	cal languages. His\ncurrent projects involve Audrey Chen\, Philipp Eden\, 
	Gerry Hemingway\, Sebastian\nStrinning\, among others.\n\nBeyond these pro
	jects\, he composed the sound design and developed\naspatialization setup 
	for Gohar Martirosyan’s installation during her residency\nat the Fondatio
	n Fiminco in spring 2024. He also took part in a composition\nresidency wi
	th Luca Ventimiglia\, creating a performance for the international\npavili
	on Desired Lines at the Venice Biennale\, and was awarded a residency by\n
	the Institut Supérieur des Arts et Design de Toulouse at the Cité Internat
	ionale\ndes Arts in Paris in 2023 and 2025.\n\njoaquinortega.eu\n[https://
	l.facebook.com/l.php?u=http%3A%2F%2Fjoaquinortega.eu%2F%3Ffbclid%3DIwZXh0b
	gNhZW0CMTAAYnJpZBExUjBmb0hKaWxuSDFBeWE2RXNydGMGYXBwX2lkEDIyMjAzOTE3ODgyMDA
	4OTIAAR7RnWhPGJdpoUe1AI_5vOIxXq8bgZe-gxZln9bxpeu4oz_vqA3VS1xyJ890nQ_aem_W0
	f-E-jOajaSO5te6P_Wxw&h=AT2KaXEnIK0KwGjUYytn6nrjf5eOevUngGycb8SPeZ1mENw4FnT
	DYIttY28naYC-m-aw3-ECr3pN6EX7tLlhvSUejq8MmP2JnZKvKEmKQevhZR3rdAz-O-fcc18us
	y8YYW15Hdhp9HmObwRcindiHg&__tn__=q&c[0]=AT0dnzM22iw5Fl6nM4IX7TrUsKFHdj-NEZ
	lL74KyRK7dVm_Wlqsmeg7J78ztvxpykBFA-XpCvhDOdiT8JCcXbQE1KifoeTp-OL2f7HHOn7by
	CyKLixdW2HM0b7yKJs3BMHGt7BNW6deTkIHCykR6skXsQoV6PnT-1uA]\n\nhttps://soundc
	loud.com/joaquinnnnn [https://soundcloud.com/joaquinnnnn]\n\nhttps://www.y
	outube.com/watch?v=gooL4YT5luI\n[https://www.youtube.com/watch?v=gooL4YT5l
	uI]\n\nhttps://joaquinortega.bandcamp.com/album/les-grandes-maisons\n[http
	s://joaquinortega.bandcamp.com/album/les-grandes-maisons]\n\n_____________
	____________\n\nDaniel Bierdümpfl is an Linz - Austria based interdiscipli
	nary Artist.\n\nDaniel is a former luthier of plucked & bowed string instr
	uments\, he studied\ntime based & interactive media arts at the Kunstunive
	rsität Linz (AT) and works\nas a free lance artist in the fields of music\
	, performance\, theater\,\nchoreography\, poetry\, film & photography. He 
	was nominated among five other\nfinalists for the Oe1 Jazz scholarship 202
	3 as well as one of six finalists I AM\nABROAD 2024 Open Call (New Europea
	n Project for Free Improvisation Artists)\nVienna AT. He is the head of pr
	ogramming & production for Raumschiff Linz with a\nfocus on contemporary\,
	 improvised and off-genre music & performance.\n\nhttps://bieri-bieri.com/
	 [https://bieri-bieri.com/]\n\nhttps://www.instagram.com/danielbierduempfl
	/\n[https://www.instagram.com/danielbierduempfl/]\n\nhttps://youtube.com/@
	danielbierdumpfl?si=6M_M7HT_IJlvEUEK\n[https://youtube.com/@danielbierdump
	fl?si=6M_M7HT_IJlvEUEK]\n\n_________________________\n\nEntry on free dona
	tion
URL:https://kulturkarte.servus.at/event/joaquin-ortega-arg-daniel-bierdumpf
	l-at-live-at-raumschiff
LOCATION:Raumschiff - Pfarrplatz 18
STATUS:CONFIRMED
CATEGORIES:linz,performance,Jazz,Guitar,Experimentelle Musik,contemporary m
	usic,experimental music,free improvised music,raumschiff
X-ALT-DESC;FMTTYPE=text/html:<p>Joaquin Ortega is an Argentine musician bas
	ed between Paris and Bern.</p><p>In his solo project he explores the inter
	action between the guitar and field recordings, alongside bodily movement 
	and contemporary musical languages. His current projects involve Audrey Ch
	en, Philipp Eden, Gerry Hemingway, Sebastian Strinning, among others.</p><
	p>Beyond these projects, he composed the sound design and developed aspati
	alization setup for Gohar Martirosyan’s installation during her residency 
	at the Fondation Fiminco in spring 2024. He also took part in a compositio
	n residency with Luca Ventimiglia, creating a performance for the internat
	ional pavilion Desired Lines at the Venice Biennale, and was awarded a res
	idency by the Institut Supérieur des Arts et Design de Toulouse at the Cit
	é Internationale des Arts in Paris in 2023 and 2025.</p><p><a target="_bla
	nk" href="https://l.facebook.com/l.php?u=http%3A%2F%2Fjoaquinortega.eu%2F%
	3Ffbclid%3DIwZXh0bgNhZW0CMTAAYnJpZBExUjBmb0hKaWxuSDFBeWE2RXNydGMGYXBwX2lkE
	DIyMjAzOTE3ODgyMDA4OTIAAR7RnWhPGJdpoUe1AI_5vOIxXq8bgZe-gxZln9bxpeu4oz_vqA3
	VS1xyJ890nQ_aem_W0f-E-jOajaSO5te6P_Wxw&amp;h=AT2KaXEnIK0KwGjUYytn6nrjf5eOe
	vUngGycb8SPeZ1mENw4FnTDYIttY28naYC-m-aw3-ECr3pN6EX7tLlhvSUejq8MmP2JnZKvKEm
	KQevhZR3rdAz-O-fcc18usy8YYW15Hdhp9HmObwRcindiHg&amp;__tn__=q&amp;c[0]=AT0d
	nzM22iw5Fl6nM4IX7TrUsKFHdj-NEZlL74KyRK7dVm_Wlqsmeg7J78ztvxpykBFA-XpCvhDOdi
	T8JCcXbQE1KifoeTp-OL2f7HHOn7byCyKLixdW2HM0b7yKJs3BMHGt7BNW6deTkIHCykR6skXs
	QoV6PnT-1uA"><strong>joaquinortega.eu</strong></a></p><p><a target="_blank
	" href="https://soundcloud.com/joaquinnnnn"><strong>https://soundcloud.com
	/joaquinnnnn</strong></a></p><p><a target="_blank" href="https://www.youtu
	be.com/watch?v=gooL4YT5luI"><strong>https://www.youtube.com/watch?v=gooL4Y
	T5luI</strong></a></p><p><a target="_blank" href="https://joaquinortega.ba
	ndcamp.com/album/les-grandes-maisons"><strong>https://joaquinortega.bandca
	mp.com/album/les-grandes-maisons</strong></a></p><p>______________________
	___</p><p>Daniel Bierdümpfl is an Linz - Austria based interdisciplinary A
	rtist.</p><p>Daniel is a former luthier of plucked &amp; bowed string inst
	ruments, he studied time based &amp; interactive media arts at the Kunstun
	iversität Linz (AT) and works as a free lance artist in the fields of musi
	c, performance, theater, choreography, poetry, film &amp; photography. He 
	was nominated among five other finalists for the Oe1 Jazz scholarship 2023
	 as well as one of six finalists I AM ABROAD 2024 Open Call (New European 
	Project for Free Improvisation Artists) Vienna AT. He is the head of progr
	amming &amp; production for Raumschiff Linz with a focus on contemporary, 
	improvised and off-genre music &amp; performance.</p><p><a target="_blank"
	 href="https://bieri-bieri.com/"><strong>https://bieri-bieri.com/</strong>
	</a></p><p><a target="_blank" href="https://www.instagram.com/danielbierdu
	empfl/"><strong>https://www.instagram.com/danielbierduempfl/</strong></a><
	/p><p><a target="_blank" href="https://youtube.com/@danielbierdumpfl?si=6M
	_M7HT_IJlvEUEK"><strong>https://youtube.com/@danielbierdumpfl?si=6M_M7HT_I
	JlvEUEK</strong></a></p><p>_________________________</p><p>Entry on free d
	onation</p>
BEGIN:VALARM
ACTION:DISPLAY
DESCRIPTION:JOAQUIN ORTEGA ( ARG ) + DANIEL BIERDÜMPFL ( AT ) // LIVE AT RA
	UMSCHIFF
TRIGGER:-PT1H
END:VALARM
END:VEVENT
END:VCALENDAR
