BEGIN:VCALENDAR
VERSION:2.0
CALSCALE:GREGORIAN
PRODID:adamgibbons/ics
METHOD:PUBLISH
X-PUBLISHED-TTL:PT1H
BEGIN:VEVENT
UID:140@kulturkarte.servus.at
SUMMARY:Jopa die sehr gute Band
DTSTAMP:20260420T163021Z
DTSTART:20260425T180000Z
DTEND:20260425T220000Z
DESCRIPTION:Jopa die sehr gute Band nimmt dich an der Hand und mit in die T
	iefsee\, wir sind\nalle die Deep Sea Community. Jopa ist eine Supergroup a
	us allen Projekten\, die\ndie Wiener Musikszene bisher hervorgebracht hat.
URL:https://kulturkarte.servus.at/event/jopa-die-sehr-gute-band
LOCATION:Raumschiff - Pfarrplatz 18
STATUS:CONFIRMED
CATEGORIES:
X-ALT-DESC;FMTTYPE=text/html:<p>Jopa die sehr gute Band nimmt dich an der H
	and und mit in die Tiefsee, wir sind alle die Deep Sea Community. Jopa ist
	 eine Supergroup aus allen Projekten, die die Wiener Musikszene bisher her
	vorgebracht hat.</p>
BEGIN:VALARM
ACTION:DISPLAY
DESCRIPTION:Jopa die sehr gute Band
TRIGGER:-PT1H
END:VALARM
END:VEVENT
END:VCALENDAR
