BEGIN:VCALENDAR
VERSION:2.0
CALSCALE:GREGORIAN
PRODID:adamgibbons/ics
METHOD:PUBLISH
X-PUBLISHED-TTL:PT1H
BEGIN:VEVENT
UID:137@kulturkarte.servus.at
SUMMARY:LOOSE ENDS
DTSTAMP:20260420T033803Z
DTSTART:20260318T180000Z
DTEND:20260318T210000Z
DESCRIPTION:LOOSE ENDS\, hervorgegangen aus der Bewegungsbar\, ist eine Pla
	ttform für\nperformative Arbeiten\, die sich mit offenen  und Entwicklung 
	beschäftigen.\nKünstler*innen sind eingeladen\, ihre Arbeiten vor Publikum
	 zu teilen. Gezeigt\nwerden Performances mit einem Schwerpunkt auf Bewegun
	g\, mit Beiträgen aus Tanz\,\nPerformance und interdisziplinären Kunstform
	en.\n\n\n\nLOOSE ENDS is a platform for experimentation\, process\, and ex
	change in the field\nof performance. It supports and values artistic devel
	opment\, encouraging artists\nto create and share their work. The event fo
	cuses on dance\, performance\, and\ninterdisciplinary art forms.\n\n\n\nPe
	rformers:\n\ntbd
URL:https://kulturkarte.servus.at/event/loose-ends
LOCATION:Raumschiff - Pfarrplatz 18
STATUS:CONFIRMED
CATEGORIES:
X-ALT-DESC;FMTTYPE=text/html:<p>LOOSE ENDS, hervorgegangen aus der Bewegung
	sbar, ist eine Plattform für performative Arbeiten, die sich mit offenen&n
	bsp; und Entwicklung beschäftigen. Künstler*innen sind eingeladen, ihre Ar
	beiten vor Publikum zu teilen. Gezeigt werden Performances mit einem Schwe
	rpunkt auf Bewegung, mit Beiträgen aus Tanz, Performance und interdiszipli
	nären Kunstformen.</p><p></p><p>LOOSE ENDS is a platform for experimentati
	on, process, and exchange in the field of performance. It supports and val
	ues artistic development, encouraging artists to create and share their wo
	rk. The event focuses on dance, performance, and interdisciplinary art for
	ms.</p><p></p><p>Performers:</p><p>tbd</p>
BEGIN:VALARM
ACTION:DISPLAY
DESCRIPTION:LOOSE ENDS
TRIGGER:-PT1H
END:VALARM
END:VEVENT
END:VCALENDAR
