BEGIN:VCALENDAR
VERSION:2.0
CALSCALE:GREGORIAN
PRODID:adamgibbons/ics
METHOD:PUBLISH
X-PUBLISHED-TTL:PT1H
BEGIN:VEVENT
UID:154@kulturkarte.servus.at
SUMMARY:Nullstellung Workshop: Toolbox für Unabhängiges Verlegen und Publiz
	ieren
DTSTAMP:20260420T144731Z
DTSTART:20260418T090000Z
DTEND:20260418T130000Z
DESCRIPTION:Eingeladen sind alle Künstler*innen\, die auf der Suche nach Mö
	glichkeiten des\ngegenseitigen Kennenlernens und Austauschs sind und Einbl
	ick in unabhängiges\nVerlegen und Publizieren erhalten möchten.\n\nNina Pr
	ader\, Künstlerin und unabhängige Verlegerin (Lady Liberty Press)\, teilt\
	nihre Erfahrungen im unabhängigen Publizieren. Vorgestellt werden Zines\,\
	nEditionen\, Kunstbücher\, Magazine\, Kataloge und digitale Publikationen 
	– von\nProduktion und Druck bis zum Vertrieb. Geeignet für Einsteiger*inne
	n und Profis.\n\nIm Praxisteil gestalten wir aus einem Blatt Papier ein ei
	nfaches Zine mit\ngrundlegenden Buchbindetechniken. Werkzeug ist teilweise
	 vorhanden – bitte\nPapier\, Stanley-Messer\, Scheren und Ideen mitbringen
	.\n\nDa Nullstellung diesmal nicht die gesamten Kosten für den Workshop üb
	ernehmen\nkann\, wird ein Unkostenbeitrag von 10 € pro Teilnehmer*in einge
	hoben.\n\nAnmeldung bitte per E-Mail an Nullstellung@gmx.at bis 16. April 
	2026. Alle\nweiteren Details folgen danach. Gerne könnt ihr diese Einladun
	g an Interessierte\nweiterleiten.\n\nWir freuen uns auf eure Teilnahme und
	 einen regen Austausch!\n\nDas Team Nullstellung\nKatharina Brandl\, Viole
	ta Ivanova und Karla Woess\n\n \n\nNina Prader\, auch bekannt als Lady Lib
	erty Press\, ist Künstlerin\, Kuratorin\,\nMentorin und unabhängige Verleg
	erin. Sie wurde in Washington\, D.C. geboren und\nstudierte an der Museum 
	School of Fine Arts in Boston sowie am Slade in London.\nDer Fokus ihrer A
	rbeit liegt auf unabhängigen Publikationen wie Kunstbüchern und\nMagazinen
	 sowie auf sozialer Gerechtigkeit in Gemeinschaft\, Bildung und Kunst.\nSi
	e hat international ausgestellt und publiziert.\nhttps://www.ladylibertypr
	ess.org/ [https://www.ladylibertypress.org/]\n\nTeam-Nullstellung besteht 
	aus Katharina Brandl\, Karla Woess und Violeta Ivanova.\nWir haben es uns 
	zum Ziel gesetzt\, Künstlerinnen* in Oberösterreich zu\nvernetzen\, ihre S
	elbstwirksamkeit zu erhöhen und den Austausch untereinander zu\nfavorisier
	en. https://www.instagram.com/nullstellung1/\n[https://www.instagram.com/n
	ullstellung1/]
URL:https://kulturkarte.servus.at/event/nullstellung-workshop-toolbox-fur-u
	nabhangiges-verlegen-und-publizieren
LOCATION:Living Museum Linz - Tabakfabrik\, Haus Casablanca\, Stiege A\, EG
STATUS:CONFIRMED
CATEGORIES:
X-ALT-DESC;FMTTYPE=text/html:<p>Eingeladen sind alle Künstler*innen, die au
	f der Suche nach Möglichkeiten des gegenseitigen Kennenlernens und Austaus
	chs sind und Einblick in unabhängiges Verlegen und Publizieren erhalten mö
	chten.</p><p><strong>Nina Prader, Künstlerin und unabhängige Verlegerin (L
	ady Liberty Press), teilt ihre Erfahrungen im unabhängigen Publizieren.</s
	trong> Vorgestellt werden Zines, Editionen, Kunstbücher, Magazine, Katalog
	e und digitale Publikationen – von Produktion und Druck bis zum Vertrieb. 
	Geeignet für Einsteiger*innen und Profis.</p><p>Im Praxisteil gestalten wi
	r aus einem Blatt Papier ein einfaches Zine mit grundlegenden Buchbindetec
	hniken. Werkzeug ist teilweise vorhanden – bitte Papier, Stanley-Messer, S
	cheren und Ideen mitbringen.</p><p>Da Nullstellung diesmal nicht die gesam
	ten Kosten für den Workshop übernehmen kann, wird ein Unkostenbeitrag von 
	10 € pro Teilnehmer*in eingehoben.</p><p><strong>Anmeldung bitte per E-Mai
	l an Nullstellung@gmx.at bis 16. April 2026</strong>. Alle weiteren Detail
	s folgen danach. Gerne könnt ihr diese Einladung an Interessierte weiterle
	iten.</p><p>Wir freuen uns auf eure Teilnahme und einen regen Austausch!</
	p><p><strong>Das Team Nullstellung</strong><br>Katharina Brandl, Violeta I
	vanova und Karla Woess</p><p>&nbsp;</p><p><strong><em>Nina Prader,</em></s
	trong><em> auch bekannt als </em><strong><em>Lady Liberty Press</em></stro
	ng><em>, ist Künstlerin, Kuratorin, Mentorin und unabhängige Verlegerin. S
	ie wurde in Washington, D.C. geboren und studierte an der Museum School of
	 Fine Arts in Boston sowie am Slade in London. Der Fokus ihrer Arbeit lieg
	t auf unabhängigen Publikationen wie Kunstbüchern und Magazinen sowie auf 
	sozialer Gerechtigkeit in Gemeinschaft, Bildung und Kunst. Sie hat interna
	tional ausgestellt und publiziert. </em><a target="_blank" href="https://w
	ww.ladylibertypress.org/"><em><u>https://www.ladylibertypress.org/</u></em
	></a></p><p><strong><em>Team-Nullstellung</em></strong><em> besteht aus Ka
	tharina Brandl, Karla Woess und Violeta Ivanova. Wir haben es uns zum Ziel
	 gesetzt, Künstlerinnen* in Oberösterreich zu vernetzen, ihre Selbstwirksa
	mkeit zu erhöhen und den Austausch untereinander zu favorisieren. </em><a 
	target="_blank" href="https://www.instagram.com/nullstellung1/">https://ww
	w.instagram.com/nullstellung1/</a></p>
BEGIN:VALARM
ACTION:DISPLAY
DESCRIPTION:Nullstellung Workshop: Toolbox für Unabhängiges Verlegen und Pu
	blizieren
TRIGGER:-PT1H
END:VALARM
END:VEVENT
END:VCALENDAR
