BEGIN:VCALENDAR
VERSION:2.0
CALSCALE:GREGORIAN
PRODID:adamgibbons/ics
METHOD:PUBLISH
X-PUBLISHED-TTL:PT1H
BEGIN:VEVENT
UID:143@kulturkarte.servus.at
SUMMARY:Offene Lesebühne
DTSTAMP:20260420T061530Z
DTSTART:20260419T140000Z
DTEND:20260419T170000Z
DESCRIPTION:Herzliche Einladung zur offenen Lesebühne zum Thema "consense\,
	 communication\,\nconflict" \n\nWie funktioniert die offene Lesebühne?\n\n
	Auch diesmal könnt ihr wieder eure eigenen Texte zum Thema verfassen und b
	ei der\nLesebühne vortragen! In gemütlicher Atmosphäre dürfen sich alle tr
	auen Texte\nvorzulesen - keine Bewertung\, einfach Mut zum Teilen. Eure Te
	xte müssen nicht\nperfekt oder fertig sein\, die Lesebühne ist ein gemeins
	ames experimentelles\nLabor\, wo es darum geht\, uns im Vortragen auszupro
	bieren! Danach kann sich eine\ngemeinsame Diskussionsrunde ergeben oder ei
	nfach gemütliches Zusammensein vor\nOrt.\n\nJeder kann mitmachen – wir fre
	uen uns über zahlreiche Teilnehmerinnen. Anmeldung\nist nicht nötig\, komm
	t einfach vorbei!
URL:https://kulturkarte.servus.at/event/offene-lesebuhne
LOCATION:Raumschiff - Pfarrplatz 18
STATUS:CONFIRMED
CATEGORIES:
X-ALT-DESC;FMTTYPE=text/html:<p>Herzliche Einladung zur offenen Lesebühne z
	um Thema "consense, communication, conflict"&nbsp;</p><p>Wie funktioniert 
	die offene Lesebühne?</p><p>Auch diesmal könnt ihr wieder eure eigenen Tex
	te zum Thema verfassen und bei der Lesebühne vortragen! In gemütlicher Atm
	osphäre dürfen sich alle trauen Texte vorzulesen - keine Bewertung, einfac
	h Mut zum Teilen. Eure Texte müssen nicht perfekt oder fertig sein, die Le
	sebühne ist ein gemeinsames experimentelles Labor, wo es darum geht, uns i
	m Vortragen auszuprobieren! Danach kann sich eine gemeinsame Diskussionsru
	nde ergeben oder einfach gemütliches Zusammensein vor Ort.</p><p>Jede<em>r
	 kann mitmachen – wir freuen uns über zahlreiche Teilnehmer</em>innen. Anm
	eldung ist nicht nötig, kommt einfach vorbei!</p>
BEGIN:VALARM
ACTION:DISPLAY
DESCRIPTION:Offene Lesebühne
TRIGGER:-PT1H
END:VALARM
END:VEVENT
END:VCALENDAR
