BEGIN:VCALENDAR
VERSION:2.0
CALSCALE:GREGORIAN
PRODID:adamgibbons/ics
METHOD:PUBLISH
X-PUBLISHED-TTL:PT1H
BEGIN:VEVENT
UID:135@kulturkarte.servus.at
SUMMARY:Open House Volxküche
DTSTAMP:20260420T105336Z
DTSTART:20260329T150000Z
DTEND:20260329T200000Z
DESCRIPTION:Die VoKü (auch Küche Für Alle / KüFA) versteht sich als Ort\, a
	n dem Menschen\nkostenlos oder gegen eine freiwillige Spende eine warme Ma
	hlzeit bekommen.\nBesonders zu den aktuellen Lebensbedingungen – Teuerung 
	bei Lebensmittel\,\nEnergie und Miete\, Stagnierung von Löhnen bzw. Arbeit
	slosigkeit etc. – ist es\ndringend erforderlich\, einen Rahmen zu schaffen
	\, in dem niemand hungern muss und\nsich Menschen in einer konsumfreien Um
	gebung kennenlernen und austauschen\nkönnen. Wir haben im Zuge dieses Proj
	ektes auch einen Leitfaden ausgearbeitet\,\nwelchen wir gerne auf Anfrage 
	zusenden.
URL:https://kulturkarte.servus.at/event/open-house-volxkuche-5
GEO:48.3060005;14.2900255
LOCATION:Willy*Fred - Graben 3\, 4020 Linz
STATUS:CONFIRMED
CATEGORIES:Open House,Willy*Fred,Volxküche
X-ALT-DESC;FMTTYPE=text/html:<p>Die VoKü (auch Küche Für Alle / KüFA) verst
	eht sich als Ort, an dem Menschen kostenlos oder gegen eine freiwillige Sp
	ende eine warme Mahlzeit bekommen. Besonders zu den aktuellen Lebensbeding
	ungen – Teuerung bei Lebensmittel, Energie und Miete, Stagnierung von Löhn
	en bzw. Arbeitslosigkeit etc. – ist es dringend erforderlich, einen Rahmen
	 zu schaffen, in dem niemand hungern muss und sich Menschen in einer konsu
	mfreien Umgebung kennenlernen und austauschen können. Wir haben im Zuge di
	eses Projektes auch einen Leitfaden ausgearbeitet, welchen wir gerne auf A
	nfrage zusenden.</p>
BEGIN:VALARM
ACTION:DISPLAY
DESCRIPTION:Open House Volxküche
TRIGGER:-PT1H
END:VALARM
END:VEVENT
END:VCALENDAR
