BEGIN:VCALENDAR
VERSION:2.0
CALSCALE:GREGORIAN
PRODID:adamgibbons/ics
METHOD:PUBLISH
X-PUBLISHED-TTL:PT1H
BEGIN:VEVENT
UID:153@kulturkarte.servus.at
SUMMARY:Opening: Weiter\, weiter\, Postit…
DTSTAMP:20260420T042122Z
DTSTART:20260305T180000Z
DESCRIPTION:WEITER\, WEITER\, POSTIT…\n\n\n\n * Peter Brandlmayr / Gerald F
	reimuth\n\n * 6.3.2026 – 20.3.2026\n\nExhibition Opening: March 5th\, 2026
	\, 7pm\nOpening hours: 6. March 2026 – 20. March 2026\nWednesday – Friday\
	, 3 – 6pm or individual appointments\n\nThat which is\, is woven in the se
	nse of a multiple discourse: contradictory\,\nrelative\; as a network of r
	elationships and relatedness. That which shows itself\nalways shows itself
	 to oneself and to others\; it always has something to say to\noneself and
	 to others. Here I am\, it says\, and at the same time\, here I am not\,\n
	here is another.\nThat which is\, is always already – an outwardness and a
	n inwardness at the same\ntime. It is something like a multiple message an
	d transmission that is never\ncompletely sent and yet is always already on
	 its way\, a message and transmission\nin which it is not entirely clear w
	ho is sending it and whom it is supposed to\nreach.\n\nPeter Brandlmayr an
	d Gerald Freimuth intuitively followed this trail. For a\nyear\, they used
	 a variety of media to communicate with each other\, with\nthemselves and 
	with everything that came their way. In doing so\, they travelled\nto plac
	es that would have been hard to reach in any other context.\nThe exhibitio
	n Weiter\, weiter\, Postit… (Go on\, go on\, Postit…) is a document of\nth
	is journey\, a document of relative openness towards oneself and others.\n
	\nPeter Brandlmayr and Gerald Freimuth understand their work as the\nmater
	ialisation of discourses\, stories and messages – as a collage. Within thi
	s\nframework\, different positions\, perspectives and shifts encounter one
	 another in\na playful\, performative way.\n\nhttps://brandlmayr.iwf.at/da
	s-institut/\n[https://brandlmayr.iwf.at/das-institut/]\nhttps://gerald-fre
	imuth.net [https://gerald-freimuth.net]
URL:https://kulturkarte.servus.at/event/opening-weiter-weiter-postit
GEO:48.3004043;14.2850196
LOCATION:bb15 – space for contemporary art - Hafnerstraße 4\, 4020 Linz
STATUS:CONFIRMED
CATEGORIES:linz,media,exhibition,bb15,opening,transmission,ausstellung,mess
	age,communication
X-ALT-DESC;FMTTYPE=text/html:<h1>Weiter, weiter, Postit…</h1><p></p><ul><li
	><p>Peter Brandlmayr / Gerald Freimuth</p></li><li><p>6.3.2026 – 20.3.2026
	</p></li></ul><p><strong>Exhibition Opening</strong>: <strong>March 5th, 2
	026, 7pm</strong><br><strong>Opening hours</strong>: 6. March 2026 – 20. M
	arch 2026<br>Wednesday – Friday, 3 – 6pm or individual appointments</p><p>
	That which is, is woven in the sense of a multiple discourse: contradictor
	y, relative; as a network of relationships and relatedness. That which sho
	ws itself always shows itself to oneself and to others; it always has some
	thing to say to oneself and to others. Here I am, it says, and at the same
	 time, here I am not, here is another. <br>That which is, is always alread
	y – an outwardness and an inwardness at the same time. It is something lik
	e a multiple message and transmission that is never completely sent and ye
	t is always already on its way, a message and transmission in which it is 
	not entirely clear who is sending it and whom it is supposed to reach.</p>
	<p>Peter Brandlmayr and Gerald Freimuth intuitively followed this trail. F
	or a year, they used a variety of media to communicate with each other, wi
	th themselves and with everything that came their way. In doing so, they t
	ravelled to places that would have been hard to reach in any other context
	.<br>The exhibition Weiter, weiter, Postit… (Go on, go on, Postit…) is a d
	ocument of this journey, a document of relative openness towards oneself a
	nd others.</p><p>Peter Brandlmayr and Gerald Freimuth understand their wor
	k as the materialisation of discourses, stories and messages – as a collag
	e. Within this framework, different positions, perspectives and shifts enc
	ounter one another in a playful, performative way.<br><br><a target="_blan
	k" href="https://brandlmayr.iwf.at/das-institut/">https://brandlmayr.iwf.a
	t/das-institut/</a><br><a target="_blank" href="https://gerald-freimuth.ne
	t">https://gerald-freimuth.net</a></p>
BEGIN:VALARM
ACTION:DISPLAY
DESCRIPTION:Opening: Weiter, weiter, Postit…
TRIGGER:-PT1H
END:VALARM
END:VEVENT
END:VCALENDAR
