BEGIN:VCALENDAR
VERSION:2.0
CALSCALE:GREGORIAN
PRODID:adamgibbons/ics
METHOD:PUBLISH
X-PUBLISHED-TTL:PT1H
BEGIN:VEVENT
UID:127@kulturkarte.servus.at
SUMMARY:OUU!D ( CH ) // LIVE AT RAUMSCHIFF
DTSTAMP:20260420T105336Z
DTSTART:20260316T183000Z
DTEND:20260316T220000Z
DESCRIPTION:Faxmaschinenmusik\, für Menschen\, manchmal auch zum ungeschick
	t tanzen.\n\nFelix Nussbaumer -- reed trumpet/alto horn\, amplification\nN
	oah Punkt -- horizontal electric guitar\nNiklaus Mäder -- bass clarinet\, 
	ampflification\n\nhttps://zokrecords.bandcamp.com/album/ouu-d\n[https://zo
	krecords.bandcamp.com/album/ouu-d]\n\nEntry on free donation
URL:https://kulturkarte.servus.at/event/ouud-ch-live-at-raumschiff
LOCATION:Raumschiff - Pfarrplatz 18
STATUS:CONFIRMED
CATEGORIES:experimental,Jazz,contemporary music,experimental music,free imp
	rovised music,raumschiff,contemporary culture
X-ALT-DESC;FMTTYPE=text/html:<p>Faxmaschinenmusik, für Menschen, manchmal a
	uch zum ungeschickt tanzen.</p><p>Felix Nussbaumer -- reed trumpet/alto ho
	rn, amplification<br>Noah Punkt -- horizontal electric guitar<br>Niklaus M
	äder -- bass clarinet, ampflification</p><p><a target="_blank" href="https
	://zokrecords.bandcamp.com/album/ouu-d"><strong>https://zokrecords.bandcam
	p.com/album/ouu-d</strong></a></p><p>Entry on free donation</p>
BEGIN:VALARM
ACTION:DISPLAY
DESCRIPTION:OUU!D ( CH ) // LIVE AT RAUMSCHIFF
TRIGGER:-PT1H
END:VALARM
END:VEVENT
END:VCALENDAR
