BEGIN:VCALENDAR
VERSION:2.0
CALSCALE:GREGORIAN
PRODID:adamgibbons/ics
METHOD:PUBLISH
X-PUBLISHED-TTL:PT1H
BEGIN:VEVENT
UID:118@kulturkarte.servus.at
SUMMARY:Partizipatives Performance Lab
DTSTAMP:20260420T033924Z
DTSTART:20260221T180000Z
DESCRIPTION:Die ewige Shitshow ist zu Ende: Das Silweety Schicksalsrad ist 
	hier! Es gibt\nPreise und es gibt Hoffnung! Das Orakel blickt in deine ver
	heißungsvollste\nZukunft\, die Prognosen leben deine Träume und der Prosec
	co fließt in Strömen! In\ndieser Gala gewinnen alle Klassen! Folgt uns in 
	einen hoffnungsfrohen Ausblick\nins Jahr des Feuer-Pferdes 2026! Mit den S
	chicksalsmedien Barbara Juch &\nJennifer Gisela Weiss & dem Orakel Katarin
	a Maria Trenk.
URL:https://kulturkarte.servus.at/event/partizipatives-performance-lab
LOCATION:Sirup - Blütenstraße 1
STATUS:CONFIRMED
CATEGORIES:sirup,perfor,kara
X-ALT-DESC;FMTTYPE=text/html:<p>Die ewige Shitshow ist zu Ende: Das Silweet
	y Schicksalsrad ist hier! Es gibt Preise und es gibt Hoffnung! Das Orakel 
	blickt in deine verheißungsvollste Zukunft, die Prognosen leben deine Träu
	me und der Prosecco fließt in Strömen! In dieser Gala gewinnen alle Klasse
	n! Folgt uns in einen hoffnungsfrohen Ausblick ins Jahr des Feuer-Pferdes 
	2026! Mit den Schicksalsmedien Barbara Juch &amp; Jennifer Gisela Weiss &a
	mp; dem Orakel Katarina Maria Trenk.</p>
BEGIN:VALARM
ACTION:DISPLAY
DESCRIPTION:Partizipatives Performance Lab
TRIGGER:-PT1H
END:VALARM
END:VEVENT
END:VCALENDAR
