BEGIN:VCALENDAR
VERSION:2.0
CALSCALE:GREGORIAN
PRODID:adamgibbons/ics
METHOD:PUBLISH
X-PUBLISHED-TTL:PT1H
BEGIN:VEVENT
UID:176@kulturkarte.servus.at
SUMMARY:Pflanzlmarkt & Frühschoppen im Schlot
DTSTAMP:20260420T155328Z
DTSTART:20260411T080000Z
DTEND:20260411T120000Z
DESCRIPTION:Der Kulturverein Schlot lädt zum Frühlingserwachen in den Innen
	hof am Campus\nFehrer.\n\n \n\nAm 11. April dreht sich alles um gute Jungp
	flanzen\, gutes Essen und ein paar\nentspannte Stunden im Freien. Gemeinsa
	m mit der solidarischen Landwirtschaft\nGmias gibt es eine feine Auswahl a
	n Bio-Jungpflanzl – perfekt\, um Balkon\, Garten\noder Fensterbank in die 
	neue Saison zu schicken.\n\n \n\nMusikalisch begleitet wird der Vormittag 
	von Saxokkord: Saxophon trifft\nAkkordeon\, gespielt von Flora Schrattenho
	lzer und Lukas Lahninger – irgendwo\nzwischen Frühschoppen und Straßenmusi
	k.\n\n \n\nUnd weil das Ganze nicht nur schön\, sondern auch gemütlich sei
	n soll:\n- Für Hunger & Durst ist gesorgt – mit & ohne Prozenten.\n- Gulas
	ch\, Bier\, Wein sowie Kaffee & Kuchen stehen bereit.\n\n- Einfach vorbeik
	ommen\, durchschauen\, plaudern\, sitzen bleiben.\n\n \n\nEckdaten:\nKultu
	rverein Schlot\, Franckstraße 45\, Innenhof Campus Fehrer\, 4020 Linz\n11.
	 April 2026\, 10:00–14:00\nEintritt frei\n\n \n\nWir freuen uns auf euch –
	 und auf einen Innenhof voller Pflanzl\, Leute und ein\nbissl Frühling.
URL:https://kulturkarte.servus.at/event/pflanzlmarkt-and-fruhschoppen-im-sc
	hlot
LOCATION:Kulturverein Schlot - Franckstr. 45\, 4020 Linz
STATUS:CONFIRMED
CATEGORIES:
X-ALT-DESC;FMTTYPE=text/html:<p>Der Kulturverein Schlot lädt zum Frühlingse
	rwachen in den Innenhof am Campus Fehrer.</p><p>&nbsp;</p><p>Am 11. April 
	dreht sich alles um gute Jungpflanzen, gutes Essen und ein paar entspannte
	 Stunden im Freien. Gemeinsam mit der solidarischen Landwirtschaft Gmias g
	ibt es eine feine Auswahl an Bio-Jungpflanzl – perfekt, um Balkon, Garten 
	oder Fensterbank in die neue Saison zu schicken.</p><p>&nbsp;</p><p>Musika
	lisch begleitet wird der Vormittag von Saxokkord: Saxophon trifft Akkordeo
	n, gespielt von Flora Schrattenholzer und Lukas Lahninger – irgendwo zwisc
	hen Frühschoppen und Straßenmusik.</p><p>&nbsp;</p><p>Und weil das Ganze n
	icht nur schön, sondern auch gemütlich sein soll:<br>- Für Hunger &amp; Du
	rst ist gesorgt – mit &amp; ohne Prozenten.<br>- Gulasch, Bier, Wein sowie
	 Kaffee &amp; Kuchen stehen bereit.</p><p>- Einfach vorbeikommen, durchsch
	auen, plaudern, sitzen bleiben.</p><p>&nbsp;</p><p><strong>Eckdaten:</stro
	ng><br>Kulturverein Schlot, Franckstraße 45, Innenhof Campus Fehrer, 4020 
	Linz<br>11. April 2026, 10:00–14:00<br>Eintritt frei</p><p>&nbsp;</p><p><s
	trong>Wir freuen uns auf euch – und auf einen Innenhof voller Pflanzl, Leu
	te und ein bissl Frühling.</strong></p>
BEGIN:VALARM
ACTION:DISPLAY
DESCRIPTION:Pflanzlmarkt & Frühschoppen im Schlot
TRIGGER:-PT1H
END:VALARM
END:VEVENT
END:VCALENDAR
