BEGIN:VCALENDAR
VERSION:2.0
CALSCALE:GREGORIAN
PRODID:adamgibbons/ics
METHOD:PUBLISH
X-PUBLISHED-TTL:PT1H
BEGIN:VEVENT
UID:162@kulturkarte.servus.at
SUMMARY:PPL goes Stream Festival - BINGO
DTSTAMP:20260420T134357Z
DTSTART:20260418T130000Z
DTEND:20260418T170000Z
DESCRIPTION:PPL GOES STREAM FESTIVAL - BINGO\n\n\n\nMore info: https://siru
	p-linz.at/dates/pplstream\n[https://sirup-linz.at/dates/pplstream]
URL:https://kulturkarte.servus.at/event/ppl-goes-stream-festival-bingo
LOCATION:Sirup - Blütenstraße 1
STATUS:CONFIRMED
CATEGORIES:performance,Karaoke,ausstelltung
X-ALT-DESC;FMTTYPE=text/html:<h1>PPL goes Stream Festival - BINGO</h1><p></
	p><p>More info: <a target="_blank" href="https://sirup-linz.at/dates/pplst
	ream">https://sirup-linz.at/dates/pplstream</a></p>
BEGIN:VALARM
ACTION:DISPLAY
DESCRIPTION:PPL goes Stream Festival - BINGO
TRIGGER:-PT1H
END:VALARM
END:VEVENT
END:VCALENDAR
