BEGIN:VCALENDAR
VERSION:2.0
CALSCALE:GREGORIAN
PRODID:adamgibbons/ics
METHOD:PUBLISH
X-PUBLISHED-TTL:PT1H
BEGIN:VEVENT
UID:117@kulturkarte.servus.at
SUMMARY:Resonant Realms
DTSTAMP:20260420T051724Z
DTSTART:20260206T190000Z
DTEND:20260206T220000Z
DESCRIPTION:AMELIE DUCHOW (DE/IT)\nLOGOS MATER\n\nDaniel Haas (AT)\nKRAKEN 
	v3\n\nVery limited capacity!\nGet your tickets:\n\nPresale Tickets\n[https
	://tickets.sirup-linz.at/event/3/resonant-realms-amelie-duchow-und-daniel-
	haas-live-av]\n\nEarly Bird: 10€\nRegular: 15€\nStudent: 12€\n\nMore infos
	 here: https://sirup-linz.at/dates/RR1\n[https://sirup-linz.at/dates/RR1]
URL:https://kulturkarte.servus.at/event/resonant-realms
LOCATION:Sirup - Blütenstraße 1
STATUS:CONFIRMED
CATEGORIES:experimental,Karaoke,sirup,perfor
X-ALT-DESC;FMTTYPE=text/html:<p><strong>AMELIE DUCHOW</strong> (DE/IT)<br>L
	OGOS MATER <br><br><strong>Daniel Haas</strong> (AT)<br>KRAKEN v3</p><p><s
	trong>Very limited capacity! <br>Get your tickets:</strong></p><p><a targe
	t="_blank" href="https://tickets.sirup-linz.at/event/3/resonant-realms-ame
	lie-duchow-und-daniel-haas-live-av">Presale Tickets</a></p><p>Early Bird: 
	10€<br>Regular: 15€<br>Student: 12€</p><p>More infos here: <a target="_bla
	nk" href="https://sirup-linz.at/dates/RR1">https://sirup-linz.at/dates/RR1
	</a></p>
BEGIN:VALARM
ACTION:DISPLAY
DESCRIPTION:Resonant Realms
TRIGGER:-PT1H
END:VALARM
END:VEVENT
END:VCALENDAR
