BEGIN:VCALENDAR
VERSION:2.0
CALSCALE:GREGORIAN
PRODID:adamgibbons/ics
METHOD:PUBLISH
X-PUBLISHED-TTL:PT1H
BEGIN:VEVENT
UID:121@kulturkarte.servus.at
SUMMARY:Scoops of Glory & Tommy Wieso (solo) & Rico Mynthen
DTSTAMP:20260420T173214Z
DTSTART:20260213T180000Z
DESCRIPTION:English below:\n\n🦩💫✨Der magische Abend mit drei fantastischen 
	Vorführungen ✨💫🦩\n\n📣📣📣📣\n\n„Scoops of Glory“ – The Woodcut Theatre by Bob
	 Nichols\nBob Nichols (Eric Kinny) ist ein in Brüssel lebender Holzschnitt
	künstler\, der\nlive Holzschnittfilme dreht und aufführt. Nach dem Erfolg 
	seines vorherigen\nFilms „Happy Fuji News“ präsentiert er nun einen neuen 
	Live-Blockbuster mit mehr\nals 500 Original-Holzschnitten (einschließlich 
	Werbespots) namens „Scoops of\nGlory“. Der Film erzählt die Geschichte ein
	es Performancekünstlers\, der\nBürgermeister wird und nach der Verabschied
	ung eines umstrittenen Gesetzes einen\nKrieg zwischen Eisdielen auslöst.\n
	\nSprache: English (keine Untertitel)\nGenre: Krimi/Thiller\nDauer: 45 Min
	uten\n\n‼️Scoops of Glory enthält Szenen mit expliziter Gewalt und ist für 
	Personen\nunter 18 Jahren nicht geeignet‼️\n\nhttps://letterboxd.com/film/s
	coops-of-glory/\n[https://letterboxd.com/film/scoops-of-glory/]\nhttps://w
	ww.youtube.com/watch?v=tidE1KX3_OI\n[https://www.youtube.com/watch?v=tidE1
	KX3_OI]\nhttps://santeloisirs.fun/ [https://santeloisirs.fun/]\n\n📣📣📣📣📣\n\
	nTommy Wieso (solo)\nFolk\, Rock\, Punk aus Linz/Wien\nhttps://www.instagr
	am.com/tommywieso/ [https://www.instagram.com/tommywieso/]\n\n📣📣📣📣📣\n\nRic
	o Mynthen\nhttps://ricomynthen.bandcamp.com/ [https://ricomynthen.bandcamp
	.com/]\n\n📣📣📣📣📣\n\nEintritt: Freie Spend\n\n📣📣📣📣📣\n\n🖼️ Poster von Excon Va
	ldez\n\n\n\nENGLISH:\n\n\n🦩💫✨A magical evening with three fantastic perfor
	mances ✨💫🦩\n\n📣📣📣📣\n\n“Scoops of Glory” – The Woodcut Theatre by Bob Nicho
	ls\nBob Nichols is a woodcut artist living in Brussels who shoots and perf
	orms live\nwoodcut films. Following the success of his previous film “Happ
	y Fuji News\,” he\nnow presents a new live blockbuster featuring more than
	 500 original woodcuts\n(including commercials) called “Scoops of Glory.” 
	The film tells the story of a\nperformance artist who becomes mayor and\, 
	after passing a controversial law\,\ntriggers a war between ice cream parl
	ors.\n\nLanguage: English (no subtitles)\nGenre: Crime/Thiller\nDuration: 
	45 min\n\n‼️Scoops of Glory contains scenes of graphic violence and is not 
	suited for\npeople under 18‼️\n\nwww.santeloisirs.fun [http://www.santelois
	irs.fun]\n\n📣📣📣📣📣\n\nTommy Wieso (solo)\n\nFolk\, rock\, punk from Linz/Vi
	enna\n\ntommywieso.bandcamp.com [http://tommywieso.bandcamp.com]\n\n📣📣📣📣📣\
	n\nRico Mynthen\n\nricomynthen.bandcamp.com [http://ricomynthen.bandcamp.c
	om]\n\n📣📣📣📣📣\n\nEntry: Free donation\n\n📣📣📣📣📣\n\n🖼️ Poster by Excon Valdez
URL:https://kulturkarte.servus.at/event/scoops-of-glory-and-tommy-wieso-sol
	o-and-rico-mynthen
LOCATION:Kulturverein zur Schießhalle - Waldeggstraße 16\, 4020 Linz
STATUS:CONFIRMED
CATEGORIES:performance,potato publishing,concerts,Schießhalle
X-ALT-DESC;FMTTYPE=text/html:<p>English below:<br><br>🦩💫✨Der magische Abend
	 mit drei fantastischen Vorführungen ✨💫🦩</p><p>📣📣📣📣<br><strong><br>„Scoops
	 of Glory“ – The Woodcut Theatre by Bob Nichols <br></strong>Bob Nichols (
	Eric Kinny) ist ein in Brüssel lebender Holzschnittkünstler, der live Holz
	schnittfilme dreht und aufführt. Nach dem Erfolg seines vorherigen Films „
	Happy Fuji News“ präsentiert er nun einen neuen Live-Blockbuster mit mehr 
	als 500 Original-Holzschnitten (einschließlich Werbespots) namens „Scoops 
	of Glory“. Der Film erzählt die Geschichte eines Performancekünstlers, der
	 Bürgermeister wird und nach der Verabschiedung eines umstrittenen Gesetze
	s einen Krieg zwischen Eisdielen auslöst.</p><p>Sprache: English (keine Un
	tertitel)<br>Genre: Krimi/Thiller<br>Dauer: 45 Minuten</p><p>‼️Scoops of Gl
	ory enthält Szenen mit expliziter Gewalt und ist für Personen unter 18 Jah
	ren nicht geeignet‼️</p><p><a href="https://letterboxd.com/film/scoops-of-g
	lory/" target="_blank">https://letterboxd.com/film/scoops-of-glory/</a><br
	><a href="https://www.youtube.com/watch?v=tidE1KX3_OI" target="_blank">htt
	ps://www.youtube.com/watch?v=tidE1KX3_OI</a><br><a href="https://santelois
	irs.fun/" target="_blank">https://santeloisirs.fun/</a></p><p>📣📣📣📣📣</p><p>
	<strong>Tommy Wieso (solo)<br></strong>Folk, Rock, Punk aus Linz/Wien<br><
	a href="https://www.instagram.com/tommywieso/" target="_blank">https://www
	.instagram.com/tommywieso/</a></p><p>📣📣📣📣📣</p><p><strong>Rico Mynthen<br><
	/strong><a href="https://ricomynthen.bandcamp.com/" target="_blank">https:
	//ricomynthen.bandcamp.com/</a></p><p>📣📣📣📣📣</p><p>Eintritt: Freie Spend</p
	><p>📣📣📣📣📣<br><br>🖼️ Poster von Excon Valdez</p><h3><br>English:</h3><p><br>
	🦩💫✨A magical evening with three fantastic performances ✨💫🦩</p><p>📣📣📣📣</p><
	p><strong>“Scoops of Glory” – The Woodcut Theatre by Bob Nichols<br></stro
	ng>Bob Nichols is a woodcut artist living in Brussels who shoots and perfo
	rms live woodcut films. Following the success of his previous film “Happy 
	Fuji News,” he now presents a new live blockbuster featuring more than 500
	 original woodcuts (including commercials) called “Scoops of Glory.” The f
	ilm tells the story of a performance artist who becomes mayor and, after p
	assing a controversial law, triggers a war between ice cream parlors.</p><
	p>Language: English (no subtitles)<br>Genre: Crime/Thiller<br>Duration: 45
	 min</p><p>‼️Scoops of Glory contains scenes of graphic violence and is not
	 suited for people under 18‼️</p><p><a href="http://www.santeloisirs.fun" t
	arget="_blank">www.santeloisirs.fun</a></p><p>📣📣📣📣📣</p><p>Tommy Wieso (sol
	o)</p><p>Folk, rock, punk from Linz/Vienna</p><p><a href="http://tommywies
	o.bandcamp.com" target="_blank">tommywieso.bandcamp.com</a></p><p>📣📣📣📣📣</p
	><p>Rico Mynthen</p><p><a href="http://ricomynthen.bandcamp.com" target="_
	blank">ricomynthen.bandcamp.com</a></p><p>📣📣📣📣📣</p><p>Entry: Free donation
	</p><p>📣📣📣📣📣</p><p>🖼️ Poster by Excon Valdez</p>
BEGIN:VALARM
ACTION:DISPLAY
DESCRIPTION:Scoops of Glory & Tommy Wieso (solo) & Rico Mynthen
TRIGGER:-PT1H
END:VALARM
END:VEVENT
END:VCALENDAR
