BEGIN:VCALENDAR
VERSION:2.0
CALSCALE:GREGORIAN
PRODID:adamgibbons/ics
METHOD:PUBLISH
X-PUBLISHED-TTL:PT1H
BEGIN:VEVENT
UID:136@kulturkarte.servus.at
SUMMARY:Scream Queen! Open Drag Stage & Karaoke
DTSTAMP:20260420T153606Z
DTSTART:20260227T190000Z
DTEND:20260227T230000Z
DESCRIPTION:Scream\, Queeeen!\n\ndrag & karaoke\n\nDatum: Freitag\, 27.02.2
	026\n\nStart: 20:00\n\nOrt: Secret Location\n\nOpen the drag stage for all
	 those divas out there. You better work! 💃\n\nDanach: Karaoke!\n\nAre You 
	“Still Standing?” – “The Show Must Go On!” – “It’s just a jump to the\nlef
	t… and then a step to the right!” Grab the mic and scream\, queeeeeen! 🎤✨\
	ndrops the mic\n\nInfos für Performer:innen:\n\n>Wer bei der Open Drag Sta
	ge auftreten möchte\, kann ab 18:00 Uhr kommen. Es gibt\neinen Raum um sic
	h herzurichten.\n\n>Bitte Song auf USB-Stick mitbringen.
URL:https://kulturkarte.servus.at/event/scream-queen-open-drag-stage-and-ka
	raoke
LOCATION:secret location - Innenstadt 666
STATUS:CONFIRMED
CATEGORIES:linz,drag
X-ALT-DESC;FMTTYPE=text/html:<p><strong>Scream, Queeeen!</strong></p><p>dra
	g &amp; karaoke</p><p>Datum: Freitag, 27.02.2026</p><p>Start: 20:00</p><p>
	Ort: Secret Location</p><p>Open the drag stage for all those divas out the
	re. You better work! 💃</p><p>Danach: Karaoke!</p><p>Are You “Still Standin
	g?” – “The Show Must Go On!” – “It’s just a jump to the left… and then a s
	tep to the right!” Grab the mic and scream, queeeeeen! 🎤✨ <em>drops the mi
	c</em></p><p>Infos für Performer:innen:</p><p>&gt;Wer bei der Open Drag St
	age auftreten möchte, kann ab 18:00 Uhr kommen. Es gibt einen Raum um sich
	 herzurichten.</p><p>&gt;Bitte Song auf USB-Stick mitbringen.</p>
BEGIN:VALARM
ACTION:DISPLAY
DESCRIPTION:Scream Queen! Open Drag Stage & Karaoke
TRIGGER:-PT1H
END:VALARM
END:VEVENT
END:VCALENDAR
