BEGIN:VCALENDAR
VERSION:2.0
CALSCALE:GREGORIAN
PRODID:adamgibbons/ics
METHOD:PUBLISH
X-PUBLISHED-TTL:PT1H
BEGIN:VEVENT
UID:138@kulturkarte.servus.at
SUMMARY:(selbst) Verteidigung: TIN Räume. TIN Stimmen.
DTSTAMP:20260420T153657Z
DTSTART:20260411T080000Z
DTEND:20260411T120000Z
DESCRIPTION:(selbst) Verteidigung: TIN Räume. TIN Stimmen. \n\nWorkshop zur
	 Selbstverteidigung via Skill-Sharing und Methoden aus Theater\, bzw\naus 
	dem Theater der Unterdrückten. Körper\, Stimme und Räume. Mit verschiedene
	n\nÜbungen\, Spielen und Stimmtechniken erarbeiten wir uns unsere Räume\, 
	Grenzen und\nHandlungsspielräume neu\, wieder\, oder auch ganz anders.\n\n
	Wir verwandeln das Raumschiff für diesen Workshop gemeinsam in einen safer
	 space\nfür uns Trans-\, Inter*-\, Nicht-Binäre-\, Menschen.\n\n(TIN: als 
	Überbegriff zu verstehen)\n\nWS in deutscher Lautsprache & TIN exklusiv\n\
	nAnmeldung: bitte bis Di 7.04.2026 --> ahoi@raum-schiff.at\n\n\n\nMagdalen
	a Klein ist ausgebildete Schauspielerin\, Theater der Unterdrückten\nMulti
	plikatorin\, qualifizierte Peer-Beraterin für Variationen der\nGeschlechts
	merkmale\, arbeitet als Bildungsreferentin und Peer-Berater*in bei der\nBe
	ratungsstelle Var.Ges und bei VIMÖ (Verein Intergeschlechtlicher Menschen\
	nÖsterreich). Magdalena hat langjährige Erfahrung im Halten von Workshops 
	und\nmacht seit über einem Jahrzehnt feministische Selbstverteidigung.
URL:https://kulturkarte.servus.at/event/selbst-verteidigung-tin-raume-tin-s
	timmen
LOCATION:Raumschiff - Pfarrplatz 18
STATUS:CONFIRMED
CATEGORIES:
X-ALT-DESC;FMTTYPE=text/html:<p>(selbst) Verteidigung: TIN Räume. TIN Stimm
	en.&nbsp;</p><p>Workshop zur Selbstverteidigung via Skill-Sharing und Meth
	oden aus Theater, bzw aus dem Theater der Unterdrückten. Körper, Stimme un
	d Räume. Mit verschiedenen Übungen, Spielen und Stimmtechniken erarbeiten 
	wir uns unsere Räume, Grenzen und Handlungsspielräume neu, wieder, oder au
	ch ganz anders.</p><p>Wir verwandeln das Raumschiff für diesen Workshop ge
	meinsam in einen safer space für uns Trans-, Inter*-, Nicht-Binäre-, Mensc
	hen.</p><p>(TIN: als Überbegriff zu verstehen)</p><p>WS in deutscher Lauts
	prache &amp; TIN exklusiv</p><p>Anmeldung: bitte bis Di 7.04.2026 --&gt; a
	hoi@raum-schiff.at</p><p></p><p>Magdalena Klein ist ausgebildete Schauspie
	ler<em>in, Theater der Unterdrückten Multiplikator</em>in, qualifizierte P
	eer-Berater<em>in für Variationen der Geschlechtsmerkmale, arbeitet als Bi
	ldungsreferent</em>in und Peer-Berater*in bei der Beratungsstelle Var.Ges 
	und bei VIMÖ (Verein Intergeschlechtlicher Menschen Österreich). Magdalena
	 hat langjährige Erfahrung im Halten von Workshops und macht seit über ein
	em Jahrzehnt feministische Selbstverteidigung.</p>
BEGIN:VALARM
ACTION:DISPLAY
DESCRIPTION:(selbst) Verteidigung: TIN Räume. TIN Stimmen.
TRIGGER:-PT1H
END:VALARM
END:VEVENT
END:VCALENDAR
