BEGIN:VCALENDAR
VERSION:2.0
CALSCALE:GREGORIAN
PRODID:adamgibbons/ics
METHOD:PUBLISH
X-PUBLISHED-TTL:PT1H
BEGIN:VEVENT
UID:161@kulturkarte.servus.at
SUMMARY:Sirup x STREAM Festival
DTSTAMP:20260420T123037Z
DTSTART:20260417T190000Z
DESCRIPTION:EUSEBEIA (UK)\nJungle\, Drum'n'Bass\, Breaks\n\nBorn in Flamez 
	(Berlin)\ndeconstructed club\, grime\, lo-fi pop\n\nSirup DJs\nBreaks/Tech
	no\n\nMore info: https://sirup-linz.at/dates/stream/\n[https://sirup-linz.
	at/dates/stream/]
URL:https://kulturkarte.servus.at/event/sirup-x-stream-festival
LOCATION:Sirup - Blütenstraße 1
STATUS:CONFIRMED
CATEGORIES:Karaoke,music,sirup
X-ALT-DESC;FMTTYPE=text/html:<p><strong>EUSEBEIA</strong> (UK) <br>Jungle, 
	Drum'n'Bass, Breaks<br><br><strong>Born in Flamez</strong> (Berlin) <br>de
	constructed club, grime, lo-fi pop<br><br><strong>Sirup DJs</strong> <br>B
	reaks/Techno<br><br>More info: <a target="_blank" href="https://sirup-linz
	.at/dates/stream/">https://sirup-linz.at/dates/stream/</a></p>
BEGIN:VALARM
ACTION:DISPLAY
DESCRIPTION:Sirup x STREAM Festival
TRIGGER:-PT1H
END:VALARM
END:VEVENT
END:VCALENDAR
