BEGIN:VCALENDAR
VERSION:2.0
CALSCALE:GREGORIAN
PRODID:adamgibbons/ics
METHOD:PUBLISH
X-PUBLISHED-TTL:PT1H
BEGIN:VEVENT
UID:151@kulturkarte.servus.at
SUMMARY:Spin City Vol. 4
DTSTAMP:20260420T075200Z
DTSTART:20260404T180000Z
DTEND:20260405T020000Z
DESCRIPTION:TECHNO - ACID - TRANCE\n\n\n\nRound 4 steht in den Startlöchern
	: die Deaf Rabbits laden erneut zum Tanz nach\nHaslach an der Mühl. Dabei 
	wird das TUK in Haslach wieder in einen Techno-Tempel\nverwandelt und nebe
	n der gewohnten Ladung Techno-Acid-Trance erwarten euch\naudiovisuelle Lec
	kerbissen der Sonderklasse.\n\n\n\nAuch dieses mal WIEDER dabei:\n\nFür al
	le\, die zwischen den Dancemoves und dem Schwitzen mal kurz Luft holen\nmü
	ssen oder sich einfach nett Unterhalten wollen gibt´s auch heuer wieder\nu
	nseren ChillOut Floor - der Name ist Programm: kühle Drinks und eine angen
	ehme\nAtmosphäre!\n\n\n\nLineup: TBA\n\n\n\nEintritt: 8€\n\n\n\nSound supp
	orted by BunkaSoundCrew
URL:https://kulturkarte.servus.at/event/spin-city-vol-4
LOCATION:TUK Haslach an der Mühl - Stelzen 15\, 4170 Haslach an der Mühl
STATUS:CONFIRMED
CATEGORIES:Soundsystem,Techno,acid,trance,rave,deaf rabbits
X-ALT-DESC;FMTTYPE=text/html:<p>TECHNO - ACID - TRANCE</p><p></p><p>Round 4
	 steht in den Startlöchern: die Deaf Rabbits laden erneut zum Tanz nach Ha
	slach an der Mühl. Dabei wird das TUK in Haslach wieder in einen Techno-Te
	mpel verwandelt und neben der gewohnten Ladung Techno-Acid-Trance erwarten
	 euch audiovisuelle Leckerbissen der Sonderklasse. </p><p></p><p>Auch dies
	es mal WIEDER dabei:</p><p>Für alle, die zwischen den Dancemoves und dem S
	chwitzen mal kurz Luft holen müssen oder sich einfach nett Unterhalten wol
	len gibt´s auch heuer wieder unseren ChillOut Floor - der Name ist Program
	m: kühle Drinks und eine angenehme Atmosphäre!</p><p></p><p>Lineup: TBA</p
	><p></p><p>Eintritt: 8€</p><p></p><p>Sound supported by BunkaSoundCrew</p>
BEGIN:VALARM
ACTION:DISPLAY
DESCRIPTION:Spin City Vol. 4
TRIGGER:-PT1H
END:VALARM
END:VEVENT
END:VCALENDAR
