BEGIN:VCALENDAR
VERSION:2.0
CALSCALE:GREGORIAN
PRODID:adamgibbons/ics
METHOD:PUBLISH
X-PUBLISHED-TTL:PT1H
BEGIN:VEVENT
UID:126@kulturkarte.servus.at
SUMMARY:Tangent+mek ( FR / CH / GRC ) // LIVE AT RAUMSCHIFF
DTSTAMP:20260420T135901Z
DTSTART:20260315T183000Z
DTEND:20260315T220000Z
DESCRIPTION:The music of the trio is an open-ended sonic space. Dense\, bro
	ken\, the sound\nsurfaces and structures are continuous\, oscillating betw
	een noise\, drone and\ntraces of folk music fragments that remain rather d
	istant associations. The trio\ngently leads the listener into the sounds t
	hemselves\, using memory as a process\nas well as a research method: focus
	ing on their countries of origin over the\npast years\, the trio re-traces
	 their sonic soil and endlessly reactivates its\nlanguage.\n\nAnouck Genth
	on\, violin & Anna-Kaisa Meklin\, viola da gamba & Marina Tantanozi\,\nflu
	tes\n\nhttps://youtu.be/PniZXhPII7E?si=s66bQuBqXChXlOIS\n[https://youtu.be
	/PniZXhPII7E?si=s66bQuBqXChXlOIS]\n\nhttps://montagnenoire.bandcamp.com/al
	bum/immutable-traveler\n[https://montagnenoire.bandcamp.com/album/immutabl
	e-traveler]
URL:https://kulturkarte.servus.at/event/tangentmek-fr-ch-grc-live-at-raumsc
	hiff
LOCATION:Raumschiff - Pfarrplatz 18
STATUS:CONFIRMED
CATEGORIES:linz,experimental,Jazz,contemporary music,experimental music,rau
	mschiff,contemporary culture
X-ALT-DESC;FMTTYPE=text/html:<p>The music of the trio is an open-ended soni
	c space. Dense, broken, the sound surfaces and structures are continuous, 
	oscillating between noise, drone and traces of folk music fragments that r
	emain rather distant associations. The trio gently leads the listener into
	 the sounds themselves, using memory as a process as well as a research me
	thod: focusing on their countries of origin over the past years, the trio 
	re-traces their sonic soil and endlessly reactivates its language.</p><p>A
	nouck Genthon, violin &amp; Anna-Kaisa Meklin, viola da gamba &amp; Marina
	 Tantanozi, flutes</p><p><a target="_blank" href="https://youtu.be/PniZXhP
	II7E?si=s66bQuBqXChXlOIS"><strong>https://youtu.be/PniZXhPII7E?si=s66bQuBq
	XChXlOIS</strong></a></p><p><a target="_blank" href="https://montagnenoire
	.bandcamp.com/album/immutable-traveler"><strong>https://montagnenoire.band
	camp.com/album/immutable-traveler</strong></a></p>
BEGIN:VALARM
ACTION:DISPLAY
DESCRIPTION:Tangent+mek ( FR / CH / GRC ) // LIVE AT RAUMSCHIFF
TRIGGER:-PT1H
END:VALARM
END:VEVENT
END:VCALENDAR
