BEGIN:VCALENDAR
VERSION:2.0
CALSCALE:GREGORIAN
PRODID:adamgibbons/ics
METHOD:PUBLISH
X-PUBLISHED-TTL:PT1H
BEGIN:VEVENT
UID:185@kulturkarte.servus.at
SUMMARY:Kostnix*laden
DTSTAMP:20260420T172933Z
DTSTART:20260424T150000Z
DTEND:20260424T180000Z
URL:https://kulturkarte.servus.at/event/kostnixladen-14
GEO:48.3060005;14.2900255
LOCATION:Willy*Fred - Graben 3\, 4020 Linz
STATUS:CONFIRMED
CATEGORIES:Willy*Fred,Kostnixladen
END:VEVENT
BEGIN:VEVENT
UID:175@kulturkarte.servus.at
SUMMARY:Open House Volxküche
DTSTAMP:20260420T172934Z
DTSTART:20260426T150000Z
DTEND:20260426T200000Z
URL:https://kulturkarte.servus.at/event/open-house-volxkuche-6
GEO:48.3060005;14.2900255
LOCATION:Willy*Fred - Graben 3\, 4020 Linz
STATUS:CONFIRMED
CATEGORIES:Open House,Willy*Fred,Volxküche
END:VEVENT
BEGIN:VEVENT
UID:186@kulturkarte.servus.at
SUMMARY:Digital Independecy Day
DTSTAMP:20260420T172934Z
DTSTART:20260503T120000Z
DTEND:20260503T153000Z
URL:https://kulturkarte.servus.at/event/digital-independecy-day
GEO:48.3060005;14.2900255
LOCATION:Willy*Fred - Graben 3\, 4020 Linz
STATUS:CONFIRMED
CATEGORIES:servus,digitalization,Willy*Fred
END:VEVENT
END:VCALENDAR
