BEGIN:VCALENDAR
VERSION:2.0
CALSCALE:GREGORIAN
PRODID:adamgibbons/ics
METHOD:PUBLISH
X-PUBLISHED-TTL:PT1H
BEGIN:VEVENT
UID:141@kulturkarte.servus.at
SUMMARY:Weiberrat: Game Changer
DTSTAMP:20260420T065048Z
DTSTART:20260422T170000Z
DTEND:20260422T190000Z
URL:https://kulturkarte.servus.at/event/weiberrat-game-changer
LOCATION:Raumschiff - Pfarrplatz 18
STATUS:CONFIRMED
CATEGORIES:
END:VEVENT
BEGIN:VEVENT
UID:180@kulturkarte.servus.at
SUMMARY:Sourdough #6 Drafting Hope\, Creating Counter-Narratives with migra
	zine and maiz / magazine presentation
DTSTAMP:20260420T065048Z
DTSTART:20260424T150000Z
DTEND:20260424T173000Z
URL:https://kulturkarte.servus.at/event/sourdough-6-magazine-presentation-d
	rafting-hope-creating-counter-narratives-with-migrazine-and-maiz
LOCATION:Raumschiff - Pfarrplatz 18
STATUS:CONFIRMED
CATEGORIES:maiz,Sourdough,migrazine,presentation,technology,counter-narrati
	ves,emancipation,monopolies,empathy,resistance,servus
END:VEVENT
BEGIN:VEVENT
UID:139@kulturkarte.servus.at
SUMMARY:VOM CONFLICT ZUR CONNECTION
DTSTAMP:20260420T065048Z
DTSTART:20260425T110000Z
DTEND:20260425T140000Z
URL:https://kulturkarte.servus.at/event/vom-conflict-zur-connection
LOCATION:Raumschiff - Pfarrplatz 18
STATUS:CONFIRMED
CATEGORIES:
END:VEVENT
BEGIN:VEVENT
UID:140@kulturkarte.servus.at
SUMMARY:Jopa die sehr gute Band
DTSTAMP:20260420T065048Z
DTSTART:20260425T180000Z
DTEND:20260425T220000Z
URL:https://kulturkarte.servus.at/event/jopa-die-sehr-gute-band
LOCATION:Raumschiff - Pfarrplatz 18
STATUS:CONFIRMED
CATEGORIES:
END:VEVENT
END:VCALENDAR
