BEGIN:VCALENDAR
VERSION:2.0
CALSCALE:GREGORIAN
PRODID:adamgibbons/ics
METHOD:PUBLISH
X-PUBLISHED-TTL:PT1H
BEGIN:VEVENT
UID:189@kulturkarte.servus.at
SUMMARY:Decay and Desire / bb15 x AMRO / Exhibition Opening & Artist Guided
	 Tour
DTSTAMP:20260422T201246Z
DTSTART:20260514T150000Z
URL:https://kulturkarte.servus.at/event/decay-and-desire-bb15-x-amro-exhibi
	tion-opening-and-artist-guided-tour
GEO:48.3004043;14.2850196
LOCATION:bb15 – space for contemporary art - Hafnerstraße 4\, 4020 Linz
STATUS:CONFIRMED
CATEGORIES:AMRO,artivism,bb15,Brin Žvan,bureaucracy,channels,communication,
	decay,desire,exhibition,infrastructure,installation,institutional critique
	,interactive art,irrationa,jiawen uffline,ljudmila,maintenance,Maja Bojani
	ć,media arts,medium,nature,office,structure,structures,subversive,sustaina
	bility,transmission,yearn
END:VEVENT
END:VCALENDAR
